BEGIN:VCALENDAR
VERSION:2.0
PRODID:-//RelNet Technológia Kft. - ECPv5.16.4//NONSGML v1.0//EN
CALSCALE:GREGORIAN
METHOD:PUBLISH
XXXXXXXXXXXXXXXXXXXXXXXXXXXXXXXXXXXXXX
XXXXXXXXXXXXXXXXXXXXXXXXXXXXXXXXXXXXX
XXXXXXXXXXXXXXXXXXXXXXXXXXXXXXXXXXXXXXXXXXXXXXXXX
BEGIN:VTIMEZONE
TZID:Europe/Budapest
BEGIN:DAYLIGHT
TZOFFSETFROM:+0100
TZOFFSETTO:+0200
TZNAME:CEST
DTSTART:20230326T010000
END:DAYLIGHT
BEGIN:STANDARD
TZOFFSETFROM:+0200
TZOFFSETTO:+0100
TZNAME:CET
DTSTART:20231029T010000
END:STANDARD
END:VTIMEZONE
BEGIN:VEVENT
DTSTART;TZID=Europe/Budapest:20230424T130000
DTEND;TZID=Europe/Budapest:20230424T140000
DTSTAMP:20260420T033427
CREATED:20230419T144732Z
LAST-MODIFIED:20230419T144732Z
UID:28790-1682341200-1682344800@relnet.hu
SUMMARY:A biztonsági mentésen túl: mérnöki útmutató – integrált kibervédelem az Acronis-tól
DESCRIPTION:Csatlakozzon az Acronis mérnöki csapatához egy élő webináriumra\, és tudja meg\, mire képes az Acronis integrált kibervédelmi megoldása! \nREGISZTRÁCIÓ\n\nIdőpont: 2023. április 24 (hétfő) | 13:00-14:00 \nElőadó: Dariusz Mumot\, Senior Solutions Engineer\, Acronis \nAz üzleti élet az adatokra épül\, és ezt a támadók is tudják. Az adatok integrált védelme nélkül még a legjobb mentési stratégia sem teremti meg a biztonságot. A kibertámadások ugyanis egyre kifinomultabbak és egyre gyakoribbak. Az Acronis Cyber Protect a biztonsági mentés\, az adatvédelem és a kiberbiztonság kombinálásával drámaian csökkenti az IT-menedzsment összetettségét és költségeit\, miközben kiváló védelmet nyújt a szervezetek számára. \nA webinárium fő témái: \n\nA mentési és kiberbiztonsági stratégiák kombinálása\nA szervezet biztonsági állapotának javítása a modern fenyegetésekkel szemben\nA korlátozott IT-erőforrások hatékony felhasználása\nWorkload és rendszermenedzsment egyszerűsítése
URL:https://relnet.hu/en/rendezveny/a-biztonsagi-mentesen-tul-mernoki-utmutato-integralt-kibervedelem-az-acronis-tol/
LOCATION:Virtual event
CATEGORIES:Acronis
ATTACH;FMTTYPE=image/jpeg:https://relnet.hu/wp-content/uploads/2023/04/AcronisBackup-min-1.jpg
END:VEVENT
END:VCALENDAR