BEGIN:VCALENDAR
VERSION:2.0
PRODID:-//RelNet Technológia Kft. - ECPv5.16.4//NONSGML v1.0//EN
CALSCALE:GREGORIAN
METHOD:PUBLISH
XXXXXXXXXXXXXXXXXXXXXXXXXXXXXXXXXXXXXX
XXXXXXXXXXXXXXXXXXXXXXXXXXXXXXXXXXXXX
XXXXXXXXXXXXXXXXXXXXXXXXXXXXXXXXXXXXXXXXXXXXXXXXX
BEGIN:VTIMEZONE
TZID:Europe/Budapest
BEGIN:DAYLIGHT
TZOFFSETFROM:+0100
TZOFFSETTO:+0200
TZNAME:CEST
DTSTART:20250330T010000
END:DAYLIGHT
BEGIN:STANDARD
TZOFFSETFROM:+0200
TZOFFSETTO:+0100
TZNAME:CET
DTSTART:20251026T010000
END:STANDARD
END:VTIMEZONE
BEGIN:VEVENT
DTSTART;TZID=Europe/Budapest:20250509T110000
DTEND;TZID=Europe/Budapest:20250509T120000
DTSTAMP:20260420T022029
CREATED:20250417T081459Z
LAST-MODIFIED:20250417T081459Z
UID:37678-1746788400-1746792000@relnet.hu
SUMMARY:A fordított proxy és az API-automatizálás felhasználási esetei
DESCRIPTION:Ez a webinárium a Progress Kemp LoadMaster terheléselosztók mögött álló technológiát és képességeit mutatja be. \nREGISZTRÁCIÓ\n\n  \nIdőpont: 2025. május 9. (péntek) | 11:00-12:00 \nTémák: \nA fordított proxy használati esetei – Mire való a fordított proxy\, milyen gyakorlati alkalmazásai vannak? Milyen típusú rendszerekben\, helyzetekben és IT-környezetekben jelent előnyt a használata? \nAPI automatizáció – A LoadMaster megoldás teljes mértékben automatizálható API-n keresztül. Hogyan működik az automatizáció\, milyen előkészületek szükségesek hozzá\, és hol található hozzá támogatás? Példák: státuszleolvasás\, új konfigurációk beállítása vagy meglévő beállítások módosítása. \nElőadó: Renard Schoepfel\, Principal Sales Engineer EMEA\, Progress Kemp
URL:https://relnet.hu/en/rendezveny/a-forditott-proxy-es-az-api-automatizalas-felhasznalasi-esetei/
LOCATION:Virtual event
CATEGORIES:Kemp,Progress
ATTACH;FMTTYPE=image/jpeg:https://relnet.hu/wp-content/uploads/2025/04/ProgressKempForditottProxy-min.jpg
END:VEVENT
END:VCALENDAR