BEGIN:VCALENDAR
VERSION:2.0
PRODID:-//RelNet Technológia Kft. - ECPv5.16.4//NONSGML v1.0//EN
CALSCALE:GREGORIAN
METHOD:PUBLISH
XXXXXXXXXXXXXXXXXXXXXXXXXXXXXXXXXXXXXX
XXXXXXXXXXXXXXXXXXXXXXXXXXXXXXXXXXXXX
XXXXXXXXXXXXXXXXXXXXXXXXXXXXXXXXXXXXXXXXXXXXXXXXX
BEGIN:VTIMEZONE
TZID:Europe/Budapest
BEGIN:DAYLIGHT
TZOFFSETFROM:+0100
TZOFFSETTO:+0200
TZNAME:CEST
DTSTART:20200329T010000
END:DAYLIGHT
BEGIN:STANDARD
TZOFFSETFROM:+0200
TZOFFSETTO:+0100
TZNAME:CET
DTSTART:20201025T010000
END:STANDARD
END:VTIMEZONE
BEGIN:VEVENT
DTSTART;TZID=Europe/Budapest:20200218T100000
DTEND;TZID=Europe/Budapest:20200218T110000
DTSTAMP:20260420T053511
CREATED:20200204T141606Z
LAST-MODIFIED:20200211T143150Z
UID:4808-1582020000-1582023600@relnet.hu
SUMMARY:IT biztonsági SOS hét
DESCRIPTION:A Security SOS rendezvény során 3 napon keresztül IT biztonsági témák lesznek a fókuszban.  \nBranco Pujic\, a Sophos vezető regionális IT biztonsági szakértője\, 3 napon keresztül\, 60 perces\, élő és interaktív webkamerás előadások segítségével osztja meg a szakmai tapasztalatait. \nMélyítse el tudását – az íróasztala mellől – a Sophos IT biztonsági SOS hét során\, 2020. február 18-20. között a minden nap 10 órakor kezdődő webinárium-sorozaton\, a fenyegetések észlelése\, az adathalászat\, a felhő\, valamint az adatvédelem témájában! \n  \n\n\n\nDátum\nWebinárium címe\n\n\nFebruár 18.\, kedd \nFenyegetése észlelése – A modern rosszindulatú programok trükkjei és csapdái\n\n\nFebruár 19.\, szerda\nMiért szeressük a felhőt?\n\n\nFebruár 20.\, csütörtök\nAdathalászat és adatvédelem avagy hogyan védje online személyiségét\n\n\n\n  \nREGISZTRÁCIÓ A 3 NAPOS WEBINÁRIUM-SOROZATRA\n\n  \n\n\n\n\nVegyen részt és nyerjen!\nAz első 10 résztvevő\, aki mind a 3 élő előadáshoz csatlakozik Sophos hátizsákot kap. \nNe késlekedjen\, regisztráljon még ma és vegyen részt az élő webináriumokon és növelje a nyerési esélyeit! \n\n\n\n\n\n\nÖrömmel várjuk Önt a Sophos webináriumokon!\n*Megjegyzés: Ha más elfoglaltsága miatt nem tud részt venni a webináriumokon\, de regisztrál\, akkor a webinárium után automatikusan megkapja a felvétel linkjét.
URL:https://relnet.hu/en/rendezveny/a-het-amire-vartunk-it-biztonsagi-sos-het/
CATEGORIES:Gyártó,Rendezvény,Sophos,Végfelhasználó,Webinárium
ATTACH;FMTTYPE=image/png:https://relnet.hu/wp-content/uploads/2020/02/2.png
END:VEVENT
END:VCALENDAR