BEGIN:VCALENDAR
VERSION:2.0
PRODID:-//RelNet Technológia Kft. - ECPv5.16.4//NONSGML v1.0//EN
CALSCALE:GREGORIAN
METHOD:PUBLISH
XXXXXXXXXXXXXXXXXXXXXXXXXXXXXXXXXXXXXX
XXXXXXXXXXXXXXXXXXXXXXXXXXXXXXXXXXXXX
XXXXXXXXXXXXXXXXXXXXXXXXXXXXXXXXXXXXXXXXXXXXXXXXX
BEGIN:VTIMEZONE
TZID:Europe/Budapest
BEGIN:DAYLIGHT
TZOFFSETFROM:+0100
TZOFFSETTO:+0200
TZNAME:CEST
DTSTART:20220327T010000
END:DAYLIGHT
BEGIN:STANDARD
TZOFFSETFROM:+0200
TZOFFSETTO:+0100
TZNAME:CET
DTSTART:20221030T010000
END:STANDARD
END:VTIMEZONE
BEGIN:VEVENT
DTSTART;TZID=Europe/Budapest:20221019T100000
DTEND;TZID=Europe/Budapest:20221019T110000
DTSTAMP:20260420T020901
CREATED:20221017T102126Z
LAST-MODIFIED:20221018T144341Z
UID:25343-1666173600-1666177200@relnet.hu
SUMMARY:A Juniper Networks Apstra megoldásának bemutatása
DESCRIPTION:Csatlakozzon bármikor a Juniper Networks rögzített előadásához\, amelyen mélyebb technikai betekintést nyerhet az Apstra megoldásba\, a Graph DB-be és a szándékalapú analitikába. \nAz Apstrát\, mint szándékalapú hálózati rendszert\, az teszi különlegessé\, hogy a grafikonadatbázist “egyetlen igazságforrás”-ként használva felépíti és nyomon követi az adatközpont komplex kapcsolatait és viszonyrendszerét. \nA technikai fókuszú webináriumon az Apstra vezető rendszermérnöke elmagyarázza\, miért nem képesek helyettesíteni Visio vagy Excel dokumentumok az Apstra teljesítményét\, azaz: \n\nHogyan könnyíti meg az adatközponti infrastruktúrák kezelését egy valódi – erős és rugalmas – szándékalapú hálózati rendszer?\nMiért emelkedik ki az Apstra az összes többi infrastruktúra menedzsment megoldás közül?\nHogyan képes az Apstra „egyetlen igazságforrás” (single source of truth) megközelítése rendkívül gyorsan megtalálni a problémák forrását?\n\n  \nNÉZZE MEG MOST!\n\n 
URL:https://relnet.hu/en/rendezveny/a-juniper-networks-apstra-megoldasanak-bemutatasa-on-demand-webinarium-formajaban/2022-10-19/
LOCATION:Virtual event
CATEGORIES:Juniper Networks,Webinárium
ATTACH;FMTTYPE=image/png:https://relnet.hu/wp-content/uploads/2022/10/APSTRA-min.png
END:VEVENT
END:VCALENDAR