BEGIN:VCALENDAR
VERSION:2.0
PRODID:-//RelNet Technológia Kft. - ECPv5.16.4//NONSGML v1.0//EN
CALSCALE:GREGORIAN
METHOD:PUBLISH
XXXXXXXXXXXXXXXXXXXXXXXXXXXXXXXXXXXXXX
XXXXXXXXXXXXXXXXXXXXXXXXXXXXXXXXXXXXX
XXXXXXXXXXXXXXXXXXXXXXXXXXXXXXXXXXXXXXXXXXXXXXXXX
BEGIN:VTIMEZONE
TZID:Europe/Budapest
BEGIN:DAYLIGHT
TZOFFSETFROM:+0100
TZOFFSETTO:+0200
TZNAME:CEST
DTSTART:20200329T010000
END:DAYLIGHT
BEGIN:STANDARD
TZOFFSETFROM:+0200
TZOFFSETTO:+0100
TZNAME:CET
DTSTART:20201025T010000
END:STANDARD
END:VTIMEZONE
BEGIN:VEVENT
DTSTART;TZID=Europe/Budapest:20200409T160000
DTEND;TZID=Europe/Budapest:20200409T170000
DTSTAMP:20260420T005525
CREATED:20200405T162039Z
LAST-MODIFIED:20200405T162759Z
UID:5641-1586448000-1586451600@relnet.hu
SUMMARY:A legfontosabb távoli eléréssel kapcsolatos kérdésekre ad választ élőben Richard Hicks
DESCRIPTION:Az otthoni munkavégzés a jelenlegi globális válság idején lassan új normává válik.  Az informatikai rendszerek leterheltsége egyre nagyobb a távoli hozzáférés igények biztosításának eredményeként.  \nCsatlakozzon a nagyvállalati mobilitás és a biztonságos infrastruktúra szakértője\, Richard Hicks (Enterprise Mobility and Security Infrastructure Expert) és Frank Yue (a Kemp Principal Application Experience Architect) webináriumához\, ahol a közvetlen hozzáférés\, a VPN\, a VDI és a terheléselosztás legfontosabb kérdéseit vitatják meg. \nIsmerje meg\, hogyan biztosítható a küldetés szempontjából kritikus alkalmazások folyamatos és biztonságos elérhetősége! \n\n\nJelenkezzen most!\nTop Remote Access Questions\n2020. április 9-én 16:00-17:00 CET\nÉlő webinárium \nREGISZTRÁCIÓ
URL:https://relnet.hu/en/rendezveny/a-legfontosabb-tavoli-eleressel-kapcsolatos-kerdesekre-ad-valaszt-eloben-richard-hicks/
CATEGORIES:Gyártó,Kemp Technologies,Végfelhasználó,Viszonteladó,Webinárium
ATTACH;FMTTYPE=image/png:https://relnet.hu/wp-content/uploads/2020/04/1-2.png
END:VEVENT
END:VCALENDAR