BEGIN:VCALENDAR
VERSION:2.0
PRODID:-//RelNet Technológia Kft. - ECPv5.16.4//NONSGML v1.0//EN
CALSCALE:GREGORIAN
METHOD:PUBLISH
XXXXXXXXXXXXXXXXXXXXXXXXXXXXXXXXXXXXXX
XXXXXXXXXXXXXXXXXXXXXXXXXXXXXXXXXXXXX
XXXXXXXXXXXXXXXXXXXXXXXXXXXXXXXXXXXXXXXXXXXXXXXXX
BEGIN:VTIMEZONE
TZID:Europe/Budapest
BEGIN:DAYLIGHT
TZOFFSETFROM:+0100
TZOFFSETTO:+0200
TZNAME:CEST
DTSTART:20250330T010000
END:DAYLIGHT
BEGIN:STANDARD
TZOFFSETFROM:+0200
TZOFFSETTO:+0100
TZNAME:CET
DTSTART:20251026T010000
END:STANDARD
END:VTIMEZONE
BEGIN:VEVENT
DTSTART;TZID=Europe/Budapest:20251028T100000
DTEND;TZID=Europe/Budapest:20251028T144500
DTSTAMP:20260422T193254
CREATED:20251017T112238Z
LAST-MODIFIED:20251017T112238Z
UID:39823-1761645600-1761662700@relnet.hu
SUMMARY:A ManageEngine Log360 újdonságai – Műszaki webinárium
DESCRIPTION:Csatlakozzon a gyakorlati\, mérnököknek szóló webináriumhoz\, amelyen a ManageEngine szakemberei a Log360 SIEM-platform legfrissebb fejlesztéseit mutatják be: új észlelési képességek\, skálázható architektúra és többféle implementációs modell. \nREGISZTRÁCIÓ\n\nIdőpont: 2025. október 28. (kedd) | 10:00-10:45 \nAz új funkciók tovább javítják a Log360 arra vonatkozó képességeit\, hogy a NIS2 megfelelés operatív oldala megvalósulhasson. \nTémák: \n\nMi változott a termékben: a legújabb fejlesztések áttekintése (detektálás\, skálázás\, telepítés).\nMiért fontos a biztonsági dashboard: hogyan biztosít jobb láthatóságot és riportolást a SOC-csapatoknak.\nÉszlelési use case-ek: három valós forgatókönyv\, amely bemutatja a Log360 sokoldalúságát a pontosságát.\n„Multi-deployment” modell: a legjobb telepítési megközelítések on-prem\, cloud és hibrid környezetben.\nKérdések és válaszok\n\nKinek ajánljuk: SOC-\, hálózati és biztonsági mérnököknek\, pre-sales és üzemeltető csapatoknak\, akik gyors bevezetést\, zökkenőmentes integrációt és erős detektálást keresnek.
URL:https://relnet.hu/en/rendezveny/a-manageengine-log360-ujdonsagai-muszaki-webinarium/
LOCATION:Virtual event
CATEGORIES:ManageEngine,Webinárium
ATTACH;FMTTYPE=image/jpeg:https://relnet.hu/wp-content/uploads/2025/10/ManageEngineLog360Webinar-min.jpg
END:VEVENT
END:VCALENDAR