BEGIN:VCALENDAR
VERSION:2.0
PRODID:-//RelNet Technológia Kft. - ECPv5.16.4//NONSGML v1.0//EN
CALSCALE:GREGORIAN
METHOD:PUBLISH
XXXXXXXXXXXXXXXXXXXXXXXXXXXXXXXXXXXXXX
XXXXXXXXXXXXXXXXXXXXXXXXXXXXXXXXXXXXX
XXXXXXXXXXXXXXXXXXXXXXXXXXXXXXXXXXXXXXXXXXXXXXXXX
BEGIN:VTIMEZONE
TZID:Europe/Budapest
BEGIN:DAYLIGHT
TZOFFSETFROM:+0100
TZOFFSETTO:+0200
TZNAME:CEST
DTSTART:20200329T010000
END:DAYLIGHT
BEGIN:STANDARD
TZOFFSETFROM:+0200
TZOFFSETTO:+0100
TZNAME:CET
DTSTART:20201025T010000
END:STANDARD
END:VTIMEZONE
BEGIN:VEVENT
DTSTART;TZID=Europe/Budapest:20200617T100000
DTEND;TZID=Europe/Budapest:20200617T110000
DTSTAMP:20260420T135203
CREATED:20200611T141610Z
LAST-MODIFIED:20200611T141610Z
UID:6951-1592388000-1592391600@relnet.hu
SUMMARY:A Sophos Mobile 9.6 újdonságai
DESCRIPTION:Megjelent a Sophos Mobile 9.6-os verziója\, mely számos nagyszerű újítást tartalmaz!\nCsatlakozzon Thomas Lippert (Principal Product Manager for Mobile\, Sophos) webináriumához és ismerje meg az új funkciókat\, amelyekkel még könnyebb lesz az okostelefonok és táblagépek kezelése és védelme. \nA webináriumon megismerhető: \n• a migrációs eszköz\, melynek segítségével zökkenőmentesen mozgathatók át a Sophos Central felhős menedzsment felületére a meglévő Sophos Mobile ügyfelek\, akár helyszíni\, on-premise megoldást használnak\, akár szolgáltatásként veszik igénybe azt\, \n• az új eszközkezelési beállítások az iOS és az Android eszközök kezelésére\, \n• a Sophos Secure Email App alkalmazás újdonságai. \nAz előadás folyamán és után kérdezni is lehet az előadótól. \nRegisztráljon most!\nMegjegyzés: Érdemes akkor is regisztrálni\, ha esetleg nem tud részt venni a webináriumon\, mert az előadás rögzítésre kerül\, melynek elérhetőségét a Sophos automatikusan elküldi a regisztrált személyeknek. \n\n\nWhat’s new in Sophos Mobile 9.6\nWebinárium \n2020. június 17. 10:00-11:00 \nREGISZTRÁCIÓ
URL:https://relnet.hu/en/rendezveny/a-sophos-mobile-9-6-ujdonsagai/
LOCATION:Virtual event
CATEGORIES:Gyártó,Sophos,Végfelhasználó,Viszonteladó,Webinárium
ATTACH;FMTTYPE=image/png:https://relnet.hu/wp-content/uploads/2020/06/Mobile9.6.png
END:VEVENT
END:VCALENDAR