BEGIN:VCALENDAR
VERSION:2.0
PRODID:-//RelNet Technológia Kft. - ECPv5.16.4//NONSGML v1.0//EN
CALSCALE:GREGORIAN
METHOD:PUBLISH
XXXXXXXXXXXXXXXXXXXXXXXXXXXXXXXXXXXXXX
XXXXXXXXXXXXXXXXXXXXXXXXXXXXXXXXXXXXX
XXXXXXXXXXXXXXXXXXXXXXXXXXXXXXXXXXXXXXXXXXXXXXXXX
BEGIN:VTIMEZONE
TZID:Europe/Budapest
BEGIN:DAYLIGHT
TZOFFSETFROM:+0100
TZOFFSETTO:+0200
TZNAME:CEST
DTSTART:20240331T010000
END:DAYLIGHT
BEGIN:STANDARD
TZOFFSETFROM:+0200
TZOFFSETTO:+0100
TZNAME:CET
DTSTART:20241027T010000
END:STANDARD
END:VTIMEZONE
BEGIN:VEVENT
DTSTART;TZID=Europe/Budapest:20240904T110000
DTEND;TZID=Europe/Budapest:20240904T114500
DTSTAMP:20260420T053504
CREATED:20240902T112800Z
LAST-MODIFIED:20240902T112800Z
UID:34777-1725447600-1725450300@relnet.hu
SUMMARY:A WALLIX PAM v12 újdonságai – Partneri webinárium
DESCRIPTION:Csatlakozzon a WALLIX partneri webináriumához\, amelyen a gyártó PAM platformjának legújabb\, 12. kiadását mutatják be az előadók. \nREGISZTRÁCIÓ\n\nSzó lesz az új hozzáférés-kezelési funkciókról és fejlesztésekről\, amelyek célja a szervezetek kiberbiztonsági helyzetének további javítása és egyszerűsítse. Jelenlegi és meglévő WALLIX PAM felhasználóknak egyaránt értékes információkkal szolgál a webinárium. \nIdőpont: 2024. szeptember 4. (szerda) | 11:00-11:45
URL:https://relnet.hu/en/rendezveny/a-wallix-pam-v12-ujdonsagai-partneri-webinarium/
LOCATION:Virtual event
CATEGORIES:WALLIX
ATTACH;FMTTYPE=image/jpeg:https://relnet.hu/wp-content/uploads/2024/09/WallixPam12Webinar-min.jpg
END:VEVENT
END:VCALENDAR