BEGIN:VCALENDAR
VERSION:2.0
PRODID:-//RelNet Technológia Kft. - ECPv5.16.4//NONSGML v1.0//EN
CALSCALE:GREGORIAN
METHOD:PUBLISH
XXXXXXXXXXXXXXXXXXXXXXXXXXXXXXXXXXXXXX
XXXXXXXXXXXXXXXXXXXXXXXXXXXXXXXXXXXXX
XXXXXXXXXXXXXXXXXXXXXXXXXXXXXXXXXXXXXXXXXXXXXXXXX
BEGIN:VTIMEZONE
TZID:Europe/Budapest
BEGIN:DAYLIGHT
TZOFFSETFROM:+0100
TZOFFSETTO:+0200
TZNAME:CEST
DTSTART:20240331T010000
END:DAYLIGHT
BEGIN:STANDARD
TZOFFSETFROM:+0200
TZOFFSETTO:+0100
TZNAME:CET
DTSTART:20241027T010000
END:STANDARD
END:VTIMEZONE
BEGIN:VEVENT
DTSTART;TZID=Europe/Budapest:20241021T093000
DTEND;TZID=Europe/Budapest:20241021T140000
DTSTAMP:20260420T014140
CREATED:20241015T074135Z
LAST-MODIFIED:20241015T074135Z
UID:35201-1729503000-1729519200@relnet.hu
SUMMARY:Acronis Academy Cloud Tech újratanúsítás
DESCRIPTION:Újabb 12 hónapos meghosszabbítás céljából kényelmes újratanúsítási lehetőséget hirdetett meg az Acronis azon mérnök partnerei számára\, akik már rendelkeznek Acronis Academy Cloud Tech tanúsítással. \nREGISZTRÁCIÓ\n\nIdőpont: 2024. október 21. (hétfő) | 10:00-14:00 \nEzek a műszaki képzések arra szolgálnak\, hogy az Acronis mérnök partnerei megújítsák a már meglévő tanúsításaikat\, függetlenül attól\, hogy mikor szerezték meg azokat. A vizsgák sikeres letétele után az egyes tanfolyamokra vonatkozó újratanúsítás 12 hónapig érvényes. Ezek a tanfolyamok a régi és új funkciókat\, valamint a fő hibaelhárítási módszereket foglalják magukban. \nA tanúsítvány megszerzéséhez az alábbi öt tanfolyamot kell elvégezni a meghirdetett időpontban: \n\nCloud Tech Fundamentals\nCloud Tech Advanced Security\nCloud Tech Advanced Backup\nCloud Tech Advanced Disaster Recovery\nCloud Tech Advanced Management
URL:https://relnet.hu/en/rendezveny/acronis-academy-cloud-tech-ujratanusitas/
LOCATION:Virtual event
ATTACH;FMTTYPE=image/jpeg:https://relnet.hu/wp-content/uploads/2024/10/AcronisAcademyCloudT-min.jpg
END:VEVENT
END:VCALENDAR