BEGIN:VCALENDAR
VERSION:2.0
PRODID:-//RelNet Technológia Kft. - ECPv5.16.4//NONSGML v1.0//EN
CALSCALE:GREGORIAN
METHOD:PUBLISH
XXXXXXXXXXXXXXXXXXXXXXXXXXXXXXXXXXXXXX
XXXXXXXXXXXXXXXXXXXXXXXXXXXXXXXXXXXXX
XXXXXXXXXXXXXXXXXXXXXXXXXXXXXXXXXXXXXXXXXXXXXXXXX
BEGIN:VTIMEZONE
TZID:Europe/Budapest
BEGIN:DAYLIGHT
TZOFFSETFROM:+0100
TZOFFSETTO:+0200
TZNAME:CEST
DTSTART:20240331T010000
END:DAYLIGHT
BEGIN:STANDARD
TZOFFSETFROM:+0200
TZOFFSETTO:+0100
TZNAME:CET
DTSTART:20241027T010000
END:STANDARD
END:VTIMEZONE
BEGIN:VEVENT
DTSTART;TZID=Europe/Budapest:20240205T150000
DTEND;TZID=Europe/Budapest:20240205T160000
DTSTAMP:20260420T015946
CREATED:20240202T144155Z
LAST-MODIFIED:20240202T144244Z
UID:32856-1707145200-1707148800@relnet.hu
SUMMARY:Acronis Advanced Security + EDR online tréning
DESCRIPTION:Csatlakozzon az Acronis Academy élő webináriumához\, amely a gyártó kiberbiztonsági\, valamint végpontvédelmi és válaszadási megoldásainak (EDR) újdonságait mutatja be! \nREGISZTRÁCIÓ\n\nIdőpont: 2024. február 5. (hétfő) | 15:00 \nAz Acronis EDR már felár nélkül elérhető az összes olyan szolgáltató (MSP) partner számára\, aki használja az alap Advanced Security csomagot. Az Acronis Advanced Security számos piacelemző értékelése szerint az egyik legjobb kiberbiztonsági megoldás MSP-k számára. A végpontészlelési és válaszadási modullal kiegészítve\, további költségek nélkül\, ár-érték arányban az egyik legjobb termék a piacon. \nTémák: \n\nÁrváltozások\nAdvanced Security és az összevont funkcionalitások\nAutomatikus migráció az új\, összevont csomagra\nElnevezések változása a kezelési felületen\nAz Advanced Security csomag eltávolítása a menedzsment felületről\nLicencmódosítás vagy frissítés nem szükséges\n\n  \nElőadó: Markus Bauer\, Senior Partner Technology Evangelist\, Acronis \n  \nREGISZTRÁCIÓ
URL:https://relnet.hu/en/rendezveny/acronis-advanced-security-edr-online-trening/
LOCATION:Virtual event
CATEGORIES:Acronis
ATTACH;FMTTYPE=image/jpeg:https://relnet.hu/wp-content/uploads/2024/02/AcronisAdvancedSecEDR-min.jpg
END:VEVENT
END:VCALENDAR