BEGIN:VCALENDAR
VERSION:2.0
PRODID:-//RelNet Technológia Kft. - ECPv5.16.4//NONSGML v1.0//EN
CALSCALE:GREGORIAN
METHOD:PUBLISH
XXXXXXXXXXXXXXXXXXXXXXXXXXXXXXXXXXXXXX
XXXXXXXXXXXXXXXXXXXXXXXXXXXXXXXXXXXXX
XXXXXXXXXXXXXXXXXXXXXXXXXXXXXXXXXXXXXXXXXXXXXXXXX
BEGIN:VTIMEZONE
TZID:Europe/Budapest
BEGIN:DAYLIGHT
TZOFFSETFROM:+0100
TZOFFSETTO:+0200
TZNAME:CEST
DTSTART:20200329T010000
END:DAYLIGHT
BEGIN:STANDARD
TZOFFSETFROM:+0200
TZOFFSETTO:+0100
TZNAME:CET
DTSTART:20201025T010000
END:STANDARD
END:VTIMEZONE
BEGIN:VEVENT
DTSTART;TZID=Europe/Budapest:20200408T150000
DTEND;TZID=Europe/Budapest:20200408T170000
DTSTAMP:20260420T031138
CREATED:20200407T065431Z
LAST-MODIFIED:20200407T065434Z
UID:5646-1586358000-1586365200@relnet.hu
SUMMARY:Acronis Cyber Protection szolgáltatóknak szóló virtuális konferencia
DESCRIPTION:Az egyre növekvő adatmennyiség\, az egyre komplexebb infrastruktúra és az egyre kifinomultabb kibertámadások eredményeképpen a modern szervezetek nem támaszkodhatnak már a hagyományos megoldásokra\, hiszen ezeket nem ilyen követelményeknek a kezelésére tervezték. 10 vállalatból – saját bevallása szerint – 7 nem áll készen arra\, hogy megfelelően reagáljon egy kibertámadás esetén. \nA védelem hiánya lehetőséget jelent a szolgáltatók számára\, hogy olyan kibervédelmi megoldásokat szállítsanak az ügyfeleiknek\, amelyek egyesítik az adatvédelmet a vezető IT biztonsági megoldásokkal. \nAz Acronis virtuális konferenciája a kibervédelem előnyeivel és lehetőségeivel foglalkozik. \nMegismerheti globális szervezetek\, például az Arsenal Labdarúgó Klub IT vezetői előtt álló kihívásokat\, és azt\, hogyan tudják ezeket legyőzni a kibervédelem segítségével! \nHallgassa meg a szolgáltatókat\, hogyan csökkentik a stressz szintet és a hibajegyek számát miközben több bevételre tesznek szert azzal\, hogy modern kibervédelmi megoldásokkal egészítik ki a kínálatukat! \nTudjon meg többet a szolgáltatók számára kialakított új\, integrált megoldásról! \nRegisztráljon Ön is az Acronis szolgáltatók számára szervezett Cyber Protection virtuális konferenciájára! \nJelentkezzen még ma\, és akár megnyerheti az Arsenal Labdarúgó Klub által felajánlott aláírt relikviát is!\n\n \n \nCyber Protection Virtual Conference\nVirtuális konferencia\n2020. április 8. 15:00-17:00 CET\n \nRészletes agenda\, előadók: https://bit.ly/39OmcVz\n\nREGISZTRÁCIÓ
URL:https://relnet.hu/en/rendezveny/acronis-cyber-protection-szolgaltatoknak-szolo-virtualis-konferencia/
CATEGORIES:Acronis,Cyber Protection,Gyártó
ATTACH;FMTTYPE=image/png:https://relnet.hu/wp-content/uploads/2020/04/2-2.png
END:VEVENT
END:VCALENDAR