BEGIN:VCALENDAR
VERSION:2.0
PRODID:-//RelNet Technológia Kft. - ECPv5.16.4//NONSGML v1.0//EN
CALSCALE:GREGORIAN
METHOD:PUBLISH
XXXXXXXXXXXXXXXXXXXXXXXXXXXXXXXXXXXXXX
XXXXXXXXXXXXXXXXXXXXXXXXXXXXXXXXXXXXX
XXXXXXXXXXXXXXXXXXXXXXXXXXXXXXXXXXXXXXXXXXXXXXXXX
BEGIN:VTIMEZONE
TZID:Europe/Budapest
BEGIN:DAYLIGHT
TZOFFSETFROM:+0100
TZOFFSETTO:+0200
TZNAME:CEST
DTSTART:20190331T010000
END:DAYLIGHT
BEGIN:STANDARD
TZOFFSETFROM:+0200
TZOFFSETTO:+0100
TZNAME:CET
DTSTART:20191027T010000
END:STANDARD
END:VTIMEZONE
BEGIN:VEVENT
DTSTART;TZID=Europe/Budapest:20190917T090000
DTEND;TZID=Europe/Budapest:20190917T140000
DTSTAMP:20260420T020710
CREATED:20190903T134456Z
LAST-MODIFIED:20200114T093349Z
UID:3521-1568710800-1568728800@relnet.hu
SUMMARY:Acronis Cyber Protection workshop
DESCRIPTION:Gyere el 2019. szeptember 17-én és ismerd meg az Acronis Cyber Protection megoldását közelebbről!\nA workshopot Dariusz Mumot (Pre Sales Engineer) és Artur Cyganek (Regional Director Eastern Europe) tarja az Acronistól. \nNapirend \n\n\n\n9:00-9:15\nÉrkezés\, regisztráció\n\n\n9:15-9:45\nAz Acronis kibervédelmi stratégiája\n\n\n9:45-10:15\nAz Acronis kibervédelmi termékei / szolgáltatás portfóliója\n\n\n10:15-10:25\nSzünet\n\n\n10:25-11:55\nAz Acronis Backup 12.5 termék technikai áttekintése\n\n\n11:55-12:25\nSzünet\n\n\n12:25-12:55\nAcronis Cyber Cloud – élő bemutató\n\n\n12:55-13:00\nKérdések és válaszok\n\n\n\nCsak a partnerek részére:\n13:00-13:45     Licenszelés és árazás\, az Acronis Partner Programja \nRegisztrálj még ma! \nIngyenes részvételi lehetőséget biztosítunk\, amihez előzetes regisztráció szükséges!\nA férőhelyek száma korlátozott\, a regisztrációt a jelentkezés sorrendjében tudjuk elfogadni! \nAz előadások angol nyelvűek. \nIdőpont: 2019. szeptember 17. \nA workshop 9:00-től 13:45-ig tart.\nHelyszín: Az oktatás helyszíne a RelNet oktatóterme\nCím: 1047 Budapest\, Váci út 71. – Az épület és az udvar bejárata is a Perényi Zsigmond utcáról nyílik\nParkolás: Díjmentes a belső udvaron és a környező utcákban is.
URL:https://relnet.hu/en/rendezveny/acronis-cyber-protection-workshop/
LOCATION:RelNet conference room\, Váci út 71.\, Budapest\, 1047\, Magyarország
CATEGORIES:Acronis,Acronis Backup 12.5,Backup,Cyber Protection,Oktatás,Rendezvény,Végfelhasználó,Viszonteladó
ATTACH;FMTTYPE=image/png:https://relnet.hu/wp-content/uploads/2019/09/Acronis-ws.png
GEO:47.572774139773;19.081058942328
X-APPLE-STRUCTURED-LOCATION;VALUE=URI;X-ADDRESS=RelNet conference room Váci út 71. Budapest 1047 Magyarország;X-APPLE-RADIUS=500;X-TITLE=Váci út 71.:geo:19.081058942328,47.572774139773
END:VEVENT
END:VCALENDAR