BEGIN:VCALENDAR
VERSION:2.0
PRODID:-//RelNet Technológia Kft. - ECPv5.16.4//NONSGML v1.0//EN
CALSCALE:GREGORIAN
METHOD:PUBLISH
XXXXXXXXXXXXXXXXXXXXXXXXXXXXXXXXXXXXXX
XXXXXXXXXXXXXXXXXXXXXXXXXXXXXXXXXXXXX
XXXXXXXXXXXXXXXXXXXXXXXXXXXXXXXXXXXXXXXXXXXXXXXXX
BEGIN:VTIMEZONE
TZID:Europe/Budapest
BEGIN:DAYLIGHT
TZOFFSETFROM:+0100
TZOFFSETTO:+0200
TZNAME:CEST
DTSTART:20190331T010000
END:DAYLIGHT
BEGIN:STANDARD
TZOFFSETFROM:+0200
TZOFFSETTO:+0100
TZNAME:CET
DTSTART:20191027T010000
END:STANDARD
END:VTIMEZONE
BEGIN:VEVENT
DTSTART;TZID=Europe/Budapest:20190827T100000
DTEND;TZID=Europe/Budapest:20190827T113000
DTSTAMP:20260420T031113
CREATED:20190806T153422Z
LAST-MODIFIED:20190806T153422Z
UID:3363-1566900000-1566905400@relnet.hu
SUMMARY:Acronis élő webinárium csak a RelNet partnereinek!
DESCRIPTION:2019. augusztus 27-én exkluzív\, csak a RelNet partnereinek szóló webináriumot tart az Acronis.\nAz előadó Dariusz Mumot az Acronis Kelet-Európáért felelős értékesítési mérnöke. \nAgenda: \n\nAcronis Backup 12.5 termékismertető\,\nAcronis Backup 12.5 élő bemutató\,\nKérdések és válaszok\,\nLicenszelés és árazás\,\nAcronis Partner Program\n\n\n\nA webinárium angol nyelvű lesz. \nJelentkezzen már most! \nAcronis live webinarium\n2019. augusztus 27. 10:00-11:30 (CEST) \nBelépés: https://acronis.zoom.us/j/721788869 \nJelentkezzen most és ismerje meg az Acronis Backup 12.5-öt közelebbről. Éljen a lehetőséggel és kérdezzen a gyártó mérnökétől élőben!
URL:https://relnet.hu/en/rendezveny/acronis-elo-webinarium-csak-a-relnet-partnereinek/
CATEGORIES:Acronis,Acronis Backup 12.5,Backup,Cyber Protection,Oktatás,Webinárium
ATTACH;FMTTYPE=image/png:https://relnet.hu/wp-content/uploads/2019/08/Acronis-webinar2.png
END:VEVENT
END:VCALENDAR