BEGIN:VCALENDAR
VERSION:2.0
PRODID:-//RelNet Technológia Kft. - ECPv5.16.4//NONSGML v1.0//EN
CALSCALE:GREGORIAN
METHOD:PUBLISH
XXXXXXXXXXXXXXXXXXXXXXXXXXXXXXXXXXXXXX
XXXXXXXXXXXXXXXXXXXXXXXXXXXXXXXXXXXXX
XXXXXXXXXXXXXXXXXXXXXXXXXXXXXXXXXXXXXXXXXXXXXXXXX
BEGIN:VTIMEZONE
TZID:Europe/Budapest
BEGIN:DAYLIGHT
TZOFFSETFROM:+0100
TZOFFSETTO:+0200
TZNAME:CEST
DTSTART:20190331T010000
END:DAYLIGHT
BEGIN:STANDARD
TZOFFSETFROM:+0200
TZOFFSETTO:+0100
TZNAME:CET
DTSTART:20191027T010000
END:STANDARD
END:VTIMEZONE
BEGIN:VEVENT
DTSTART;TZID=Europe/Budapest:20191119T140000
DTEND;TZID=Europe/Budapest:20191119T170000
DTSTAMP:20260420T033413
CREATED:20191105T171740Z
LAST-MODIFIED:20191105T172552Z
UID:3954-1574172000-1574182800@relnet.hu
SUMMARY:Acronis Sales Professional Cyber Cloud webinárium és vizsga
DESCRIPTION:Csak széles körű ismeretekkel és szakértelemmel lehet megfelelni az IT-ipar kihívásainak\, és az ügyfelek megbízható tanácsadójává válni.\nAz Acronis Sales Professional webináriumán\, megtudhatja\, hogyan lehet a legjobban pozícionálni\, eladni és integrálni az Acronis Cyber Cloud megoldását.\nElőadó: Markus Bauer\, az Acronis Partner Technology Evangelist-ája. \nA webináriumon a következőkről lesz szó:\n• Az Acronis Cyber Cloud termékek optimális pozícionálása\,\n• Új ügyfelek szerzése a kérdéseik megalapozott háttértudással történő megválaszolásával\,\n• Az Acronis szabadalmaztatott hibrid adatvédelmi megoldásai (például Acronis Backup Cloud\, Acronis Disaster Recovery Cloud\, Acronis Files Cloud\, Acronis Cyber Infrastructure)\n• Az elérhető licencmodellek és támogatási lehetőségek\n• Az Acronis partnerség előnyei \nA webináriumot követően lehetősége van egy rövid Acronis Sales Professional Cyber Cloud vizsga letételére\, mellyel megszerezheti az “Acronis Sales Professional” (ASP) címet. \nA vizsga 20 kérdést tartalmaz angolul\, és a vizsga a webináriumot követő héten bármikor lerakható.\nA sikeres vizsga esetén az Acronis megküldi az Ön Acronis Sales Professional igazolását\, amelyet a cég weboldalán közzé tehetnek.\nNe hagyja ki ezt a lehetőséget és regisztráljon most! \n\n\nAcronis Sales Professional Certified Cloud Expert\n2019. november 19. 14:00-17:00 \nREGISZTRÁCIÓ\n \n  \n 
URL:https://relnet.hu/en/rendezveny/acronis-sales-professional-cyber-cloud-webinarium-es-vizsga/
CATEGORIES:Acronis,Cyber Protection,Oktatás,Viszonteladó,Webinárium
ATTACH;FMTTYPE=image/png:https://relnet.hu/wp-content/uploads/2019/11/Webinárium-és-vizsga.png
END:VEVENT
END:VCALENDAR