BEGIN:VCALENDAR
VERSION:2.0
PRODID:-//RelNet Technológia Kft. - ECPv5.16.4//NONSGML v1.0//EN
CALSCALE:GREGORIAN
METHOD:PUBLISH
XXXXXXXXXXXXXXXXXXXXXXXXXXXXXXXXXXXXXX
XXXXXXXXXXXXXXXXXXXXXXXXXXXXXXXXXXXXX
XXXXXXXXXXXXXXXXXXXXXXXXXXXXXXXXXXXXXXXXXXXXXXXXX
BEGIN:VTIMEZONE
TZID:Europe/Budapest
BEGIN:DAYLIGHT
TZOFFSETFROM:+0100
TZOFFSETTO:+0200
TZNAME:CEST
DTSTART:20210328T010000
END:DAYLIGHT
BEGIN:STANDARD
TZOFFSETFROM:+0200
TZOFFSETTO:+0100
TZNAME:CET
DTSTART:20211031T010000
END:STANDARD
END:VTIMEZONE
BEGIN:VEVENT
DTSTART;TZID=Europe/Budapest:20211208T100000
DTEND;TZID=Europe/Budapest:20211208T110000
DTSTAMP:20260420T025309
CREATED:20211202T082331Z
LAST-MODIFIED:20211202T082331Z
UID:19250-1638957600-1638961200@relnet.hu
SUMMARY:Acronis – Van élet a backupon túl! – Élő\, magyar nyelvű webinárium
DESCRIPTION:Ezen a webináriumon az Acronis és a RelNet bemutatja a Cyber Protect Cloud keretrendszer backup szolgáltatásain felüli Advanced Protection\, Security és Management moduljait és funkcióit. Az előadás végén pedig egy élő demó segíti az Acronis kiberbiztonsági funkcióinak gyakorlatiasabb megismerését. \nA digitális transzformáció rohanó tempója miatt a hagyományos biztonsági mentési megoldások már nem képesek kellő szinten megvédeni az adatokat egy szervezeten belül. Ennek tudatában fejlesztette ki az Acronis a Cyber Protect Cloud nevű termékét\, amely kombinálja a bevált ’backup & recovery’ technológiákat a legmagasabb szintű kiberbiztonsági funkciókkal. \nTémák: \n\nAz Acronis backup megoldásának áttekintése\nAz Acronis kibervédelmi és menedzsment funkciókínálatának bemutatása\nAz Acronis kiberbiztonsági kínálatának előnyei a versenytársakéhoz képest\nAz Acronis Cyber Protect Cloud Advanced moduljainak élő demója\n\nAz Acronis régóta bizonyítja\, hogy elkötelezett a magyar piac fejlesztése mellett. Termékei kezelőfelületén a magyar nyelv is választható\, továbbá immár helyi támogatást is tud nyújtani a magyar piacon. \nElőadók: \nBurkus László\, az Acronis Cloud Distributor Success menedzsere és\nSzalai Tamás\, a RelNet Technológia Kft. pre-sales mérnöke \nIdőpont: 2021. december 8. (szerda)\, 10:00 – 11:00 \nJelentkezzen most!\nAz eseményre az oldalon történő regisztráció/bejelentkezés után tud jelentkezni. \nAz eseményen való részvételért a RelNet eLearning programjában 15 extra pontot adunk. \nKapcsolódó tartalom:\nErősíti magyarországi jelenlétét az Acronis \nAcronis képzések a RelNet eLearning programban \nTudjon meg többet az Acronisról! \n 
URL:https://relnet.hu/en/rendezveny/acronis-van-elet-a-backupon-tul-elo-magyar-nyelvu-webinarium/
LOCATION:Virtual event
CATEGORIES:Acronis,Cyber Protection,Végfelhasználó,Viszonteladó
ATTACH;FMTTYPE=image/png:https://relnet.hu/wp-content/uploads/2021/12/Van-elet-a-backupon-tul-min.png
END:VEVENT
END:VCALENDAR