BEGIN:VCALENDAR
VERSION:2.0
PRODID:-//RelNet Technológia Kft. - ECPv5.16.4//NONSGML v1.0//EN
CALSCALE:GREGORIAN
METHOD:PUBLISH
XXXXXXXXXXXXXXXXXXXXXXXXXXXXXXXXXXXXXX
XXXXXXXXXXXXXXXXXXXXXXXXXXXXXXXXXXXXX
XXXXXXXXXXXXXXXXXXXXXXXXXXXXXXXXXXXXXXXXXXXXXXXXX
BEGIN:VTIMEZONE
TZID:Europe/Budapest
BEGIN:DAYLIGHT
TZOFFSETFROM:+0100
TZOFFSETTO:+0200
TZNAME:CEST
DTSTART:20190331T010000
END:DAYLIGHT
BEGIN:STANDARD
TZOFFSETFROM:+0200
TZOFFSETTO:+0100
TZNAME:CET
DTSTART:20191027T010000
END:STANDARD
END:VTIMEZONE
BEGIN:VEVENT
DTSTART;TZID=Europe/Budapest:20190625T083000
DTEND;TZID=Europe/Budapest:20190625T140000
DTSTAMP:20260422T175912
CREATED:20190604T091528Z
LAST-MODIFIED:20190607T135847Z
UID:2524-1561451400-1561471200@relnet.hu
SUMMARY:Acronis workshop at RelNet Technologies
DESCRIPTION:We have introduced Acronis as our new vendor on our PartnerShip Day. Come and spend a morning together with Acronis\, let’s have a closer look to Cyber Protection on 25th of June\, 2019.\nThe workshop will be held by Dariusz Mumot (Pre Sales Engineer) and Artur Cyganek (Regional Director Eastern Europe) from Acronis. \nAGENDA: \n  8:30-9:00        Arrival\, registration\, morning coffee \n  9:00-9:30        Acronis Cyber Protection strategy\n  9:30-10:30      Acronis Backup 12.5 product overview \n10:30-11:00      Acronis Backup 12.5 live demo and Q&A \n11:00-11:20      Coffee break \n11:20-11:50      Licensing & pricing\, Acronis Partner Program\n11:50-12:20      Acronis Cyber Cloud \n12:20-13:20      Lunch \n13:20-13:50      Acronis Files Advanced – live demo\n13:50-14:00      Q&A \n \nRegister now! \nDate: June 25\, 2019\nTime: 8:30-14:00\nVenue: RelNet’s training room\nAddress: Váci út 71.\, 1047 Budapest – The entrance is from Perényi Zsigmond Street\nParking:  Free parking in RelNet’s courtyard and on the surrounding streets
URL:https://relnet.hu/en/rendezveny/acronis-workshop-at-relnet-technologies/
LOCATION:RelNet conference room\, Váci út 71.\, Budapest\, 1047\, Magyarország
CATEGORIES:Acronis,Cyber Protection,Event,RelNet,Reseller,Training,Vendor
ATTACH;FMTTYPE=image/png:https://relnet.hu/wp-content/uploads/2019/06/01.png
GEO:47.572774139773;19.081058942328
X-APPLE-STRUCTURED-LOCATION;VALUE=URI;X-ADDRESS=RelNet conference room Váci út 71. Budapest 1047 Magyarország;X-APPLE-RADIUS=500;X-TITLE=Váci út 71.:geo:19.081058942328,47.572774139773
END:VEVENT
END:VCALENDAR