BEGIN:VCALENDAR
VERSION:2.0
PRODID:-//RelNet Technológia Kft. - ECPv5.16.4//NONSGML v1.0//EN
CALSCALE:GREGORIAN
METHOD:PUBLISH
XXXXXXXXXXXXXXXXXXXXXXXXXXXXXXXXXXXXXX
XXXXXXXXXXXXXXXXXXXXXXXXXXXXXXXXXXXXX
XXXXXXXXXXXXXXXXXXXXXXXXXXXXXXXXXXXXXXXXXXXXXXXXX
BEGIN:VTIMEZONE
TZID:Europe/Budapest
BEGIN:DAYLIGHT
TZOFFSETFROM:+0100
TZOFFSETTO:+0200
TZNAME:CEST
DTSTART:20220327T010000
END:DAYLIGHT
BEGIN:STANDARD
TZOFFSETFROM:+0200
TZOFFSETTO:+0100
TZNAME:CET
DTSTART:20221030T010000
END:STANDARD
END:VTIMEZONE
BEGIN:VEVENT
DTSTART;TZID=Europe/Budapest:20220223T150000
DTEND;TZID=Europe/Budapest:20220223T170000
DTSTAMP:20260420T031028
CREATED:20220216T191800Z
LAST-MODIFIED:20220221T134818Z
UID:20501-1645628400-1645635600@relnet.hu
SUMMARY:AI in Action: Juniper AI – An Ecosystem Platform webinárium
DESCRIPTION:Regisztráljon most\, hogy február 23-án részt vehessen a Juniper Networks ’AI in Action’ webináriumsorozatának következő élő rendezvényén! \nAz izgalmasnak és relevánsnak ígérkező eseményen élénk és interaktív megbeszélések sora járja körbe\, hogy miért fontos a Juniper AI platform a hálózati ökoszisztémák számára. A mesterséges intelligencia jelentőségének taglalása mellett a vezetékes és vezeték nélküli hálózatok kialakításáról is szó lesz. \nNe hagyja ki\, hiszen ügyfélinterjúk formájában\, valamint iparági elemzők és független tanácsadók előadásában demók\, iparági tapasztalatok\, tippek és trükkök\, valós üzleti előnyök várják. \nTémák: \n\nMiért fontos a mesterséges intelligencia?\nMiért van szükség AI platformra?\nVezetékes és vezeték nélküli hálózatok kialakítása\n\nJelentkezzen most!\nREGISZTRÁCIÓ\n\nAz eseményre a Juniper Networks weboldalán történő regisztráció/bejelentkezés után tud jelentkezni.
URL:https://relnet.hu/en/rendezveny/ai-in-action-juniper-ai-an-ecosystem-platform-webinarium/
LOCATION:Virtual event
CATEGORIES:Juniper Networks,Webinárium
ATTACH;FMTTYPE=image/png:https://relnet.hu/wp-content/uploads/2022/02/AI-min.png
END:VEVENT
END:VCALENDAR