BEGIN:VCALENDAR
VERSION:2.0
PRODID:-//RelNet Technológia Kft. - ECPv5.16.4//NONSGML v1.0//EN
CALSCALE:GREGORIAN
METHOD:PUBLISH
XXXXXXXXXXXXXXXXXXXXXXXXXXXXXXXXXXXXXX
XXXXXXXXXXXXXXXXXXXXXXXXXXXXXXXXXXXXX
XXXXXXXXXXXXXXXXXXXXXXXXXXXXXXXXXXXXXXXXXXXXXXXXX
BEGIN:VTIMEZONE
TZID:Europe/Budapest
BEGIN:DAYLIGHT
TZOFFSETFROM:+0100
TZOFFSETTO:+0200
TZNAME:CEST
DTSTART:20230326T010000
END:DAYLIGHT
BEGIN:STANDARD
TZOFFSETFROM:+0200
TZOFFSETTO:+0100
TZNAME:CET
DTSTART:20231029T010000
END:STANDARD
END:VTIMEZONE
BEGIN:VEVENT
DTSTART;TZID=Europe/Budapest:20230929T150000
DTEND;TZID=Europe/Budapest:20230929T150000
DTSTAMP:20260420T022027
CREATED:20230724T110536Z
LAST-MODIFIED:20230925T124851Z
UID:30147-1695999600-1695999600@relnet.hu
SUMMARY:Az OT-biztonság 5 lépése
DESCRIPTION:Bármikor megtekinthető WALLIX OT webinárium. \nMEGNÉZEM\n\nA WALLIX PAM4OT a gyártó OT-termékportfóliójának része\, amellyel ipari környezetekben is szavatolható a távoli hozzáférés biztonsága. A videó 5 kulcsfontosságú lépésre bontja a termelési lánc biztonságát\, az erős autentikációtól kezdve a nulla bizalmon alapuló megoldásokig. A funkciók bemutatása mellett konkrét esettanulmányok áttekintésére is sor kerül.
URL:https://relnet.hu/en/rendezveny/az-ot-biztonsag-5-lepese/2023-09-29/
LOCATION:Virtual event
CATEGORIES:WALLIX
ATTACH;FMTTYPE=image/jpeg:https://relnet.hu/wp-content/uploads/2023/07/WallixOt5lepes-min.jpg
END:VEVENT
END:VCALENDAR