BEGIN:VCALENDAR
VERSION:2.0
PRODID:-//RelNet Technológia Kft. - ECPv5.16.4//NONSGML v1.0//EN
CALSCALE:GREGORIAN
METHOD:PUBLISH
XXXXXXXXXXXXXXXXXXXXXXXXXXXXXXXXXXXXXX
XXXXXXXXXXXXXXXXXXXXXXXXXXXXXXXXXXXXX
XXXXXXXXXXXXXXXXXXXXXXXXXXXXXXXXXXXXXXXXXXXXXXXXX
BEGIN:VTIMEZONE
TZID:Europe/Budapest
BEGIN:DAYLIGHT
TZOFFSETFROM:+0100
TZOFFSETTO:+0200
TZNAME:CEST
DTSTART:20230326T010000
END:DAYLIGHT
BEGIN:STANDARD
TZOFFSETFROM:+0200
TZOFFSETTO:+0100
TZNAME:CET
DTSTART:20231029T010000
END:STANDARD
END:VTIMEZONE
BEGIN:VEVENT
DTSTART;TZID=Europe/Budapest:20231121T140000
DTEND;TZID=Europe/Budapest:20231121T150000
DTSTAMP:20260420T053516
CREATED:20231115T132042Z
LAST-MODIFIED:20231115T132042Z
UID:31906-1700575200-1700578800@relnet.hu
SUMMARY:Biztonságos üzleti kommunikáció az SSH-val – Partneri webinárium
DESCRIPTION:Csatlakozzon a viszonteladóknak szóló webináriumhoz\, hogy megtudja\, hogyan segíthet az SSH Secure Collaboration platform a biztonságos üzleti kommunikációban és a jogszabályok betartásában! \nREGISZTRÁCIÓ\n\nIdőpont: 2023. november 21. (kedd) | 14:00-15:00 \nAz SSH Secure Collaboration 2024 SSH Secure Collaboration 2024 egy modern\, valós idejű és biztonságos kommunikációs platform. Több modulból áll\, amelyek segítik az embereket a privát és érzékeny adatok megosztásában e-mail üzemmódban és valós időben (hívások\, azonnali üzenetküldés)\, illetve igény szerinti adatmegosztással a szervezeti- és országhatárokon belül és azokon túl. \nA Secure Collaboration 2024 a korábbi Deltagon Suite meglévő funkcióinak továbbfejlesztését tartalmazza\, és bevezeti a Secure Mail 2024 és a Secure Messaging 2024 modulokat is\, amelyek a bevált PrivX technológián alapulnak. \nAz SSH Secure Collaboration 2024 moduljai: \n\nSecure Mail 2024 – Biztonságos e-mailezés szervezeten belül\, valamint a partnerekkel és az ügyfelekkel\nSecure Sign – Biztonságos online aláírások\nSecure Rooms – Nagy mennyiségű érzékeny és bizalmas adat hatékony megosztása és tárolása\nSecure Forms – Bizalmas webes űrlapok biztonságos kitöltése\nSecure Messaging 2024 – Biztonságos üzenetküldés hanggal\, videóval és csevegésekkel\n\nA webinárium témái: \n\nA biztonságos üzleti kommunikáció fontossága\nSSH Secure Collaboration 2024 értékesítési módszerek\nAz SSH Secure Collaboration 2024 áttekintése és funkciói\nA megoldás demója valós működés közben\nKérdések és válaszok\n\n  \nElőadók: \n\nPelin Su Tüfekçi\, Product Manager\nMarta Grimm\, EMEA Channel Manager
URL:https://relnet.hu/en/rendezveny/biztonsagos-uzleti-kommunikacio-az-ssh-val-partneri-webinarium/
LOCATION:Virtual event
CATEGORIES:SSH
ATTACH;FMTTYPE=image/jpeg:https://relnet.hu/wp-content/uploads/2023/11/SSHPartnerWebinar-min.jpg
END:VEVENT
END:VCALENDAR