BEGIN:VCALENDAR
VERSION:2.0
PRODID:-//RelNet Technológia Kft. - ECPv5.16.4//NONSGML v1.0//EN
CALSCALE:GREGORIAN
METHOD:PUBLISH
XXXXXXXXXXXXXXXXXXXXXXXXXXXXXXXXXXXXXX
XXXXXXXXXXXXXXXXXXXXXXXXXXXXXXXXXXXXX
XXXXXXXXXXXXXXXXXXXXXXXXXXXXXXXXXXXXXXXXXXXXXXXXX
BEGIN:VTIMEZONE
TZID:Europe/Budapest
BEGIN:DAYLIGHT
TZOFFSETFROM:+0100
TZOFFSETTO:+0200
TZNAME:CEST
DTSTART:20220327T010000
END:DAYLIGHT
BEGIN:STANDARD
TZOFFSETFROM:+0200
TZOFFSETTO:+0100
TZNAME:CET
DTSTART:20221030T010000
END:STANDARD
END:VTIMEZONE
BEGIN:VEVENT
DTSTART;TZID=Europe/Budapest:20220823T110000
DTEND;TZID=Europe/Budapest:20220823T120000
DTSTAMP:20260419T205616
CREATED:20220812T084528Z
LAST-MODIFIED:20220812T084528Z
UID:24239-1661252400-1661256000@relnet.hu
SUMMARY:DLP-vel bővül az Acronis IT-biztonsági megoldása – Webinárium
DESCRIPTION:Csatlakozzon augusztus 23-án az Acronis angol nyelvű webináriumához\, amelyen bemutatjuk a Cyber Protect Cloud keretrendszer új Advanced Data Loss Prevention (DLP) csomagját. \nÉrtesüljön első kézből az újonnan bevezetett védelmi megoldásról! Az Advanced Data Loss Prevention megvédi a szolgáltatókat és a vállalatokat az adatszivárgástól. \nAz Acronis vezető mérnöke egyben áttekinti a Cyber Protect Cloud Advanced csomagjait\, ezek funkcióit\, tehát kiderül\, hogy a „Pack”-ek milyen problémákat oldanak meg az Ön ügyfelei számára\, és hogyan bővíthetik a szolgáltatók kínálatát. \nElőadó: Dariusz Mumot\, Senior Solutions Engineer\, Acronis \nIdőpont: 2022. augusztus 23. (kedd)\, 11:00-12:00 \nREGISZTRÁLJON MOST!
URL:https://relnet.hu/en/rendezveny/dlp-vel-bovul-az-acronis-it-biztonsagi-megoldasa-webinarium/
LOCATION:Virtual event
CATEGORIES:Acronis,Webinárium
ATTACH;FMTTYPE=image/jpeg:https://relnet.hu/wp-content/uploads/2022/08/acronis_dlp-min.jpg
END:VEVENT
END:VCALENDAR