BEGIN:VCALENDAR
VERSION:2.0
PRODID:-//RelNet Technológia Kft. - ECPv5.16.4//NONSGML v1.0//EN
CALSCALE:GREGORIAN
METHOD:PUBLISH
XXXXXXXXXXXXXXXXXXXXXXXXXXXXXXXXXXXXXX
XXXXXXXXXXXXXXXXXXXXXXXXXXXXXXXXXXXXX
XXXXXXXXXXXXXXXXXXXXXXXXXXXXXXXXXXXXXXXXXXXXXXXXX
BEGIN:VTIMEZONE
TZID:Europe/Budapest
BEGIN:DAYLIGHT
TZOFFSETFROM:+0100
TZOFFSETTO:+0200
TZNAME:CEST
DTSTART:20190331T010000
END:DAYLIGHT
BEGIN:STANDARD
TZOFFSETFROM:+0200
TZOFFSETTO:+0100
TZNAME:CET
DTSTART:20191027T010000
END:STANDARD
END:VTIMEZONE
BEGIN:VEVENT
DTSTART;TZID=Europe/Budapest:20190423T110000
DTEND;TZID=Europe/Budapest:20190423T120000
DTSTAMP:20260420T003130
CREATED:20190416T152620Z
LAST-MODIFIED:20190426T075602Z
UID:2038-1556017200-1556020800@relnet.hu
SUMMARY:Dual Mode Secure Access -What\, why and how to leverage VPN and SDP
DESCRIPTION:Join Pulse Secure to learn how Software-defined Perimeter (SDP) can be used to enhance network security and compliance while streamlining users’ access to resources in the cloud and in the data center. We’ll cover how SDP is an evolution of Zero Trust and what are the driving market forces behind it. We’ll discuss how Pulse Secure is the only vendor to offer dual-mode VPN and SDP that provides enterprises a single pane of glass access management and operational visibility. And\, you’ll learn how SDP can render resources “dark”\, making applications invisible to unauthorized users like hackers\, and how SDP offers deep authentication of both users and their devices to heighten your security profile.  \n Further details include:\n• How SDP can help you isolate critical applications and micro-segment users to reduce exposure\n• How centralized policy management secures your infrastructure while reducing configuration errors and policy drift\n• How multi-factor authentication enforces a Zero Trust security stance\n• How SDP enables and protects applications access regardless of location\n\n \n  \nDual Mode Secure Access -What\, why and how to leverage VPN and SDP \n23rd April 2019  11:00-12:00 am CET \nREGISTER
URL:https://relnet.hu/en/rendezveny/dual-mode-secure-access-what-why-and-how-to-leverage-vpn-and-sdp/
CATEGORIES:End user,Pulse Secure,Reseller,Webinar
ATTACH;FMTTYPE=image/png:https://relnet.hu/wp-content/uploads/2019/03/Pulse-webinar1.png
END:VEVENT
END:VCALENDAR