BEGIN:VCALENDAR
VERSION:2.0
PRODID:-//RelNet Technológia Kft. - ECPv5.16.4//NONSGML v1.0//EN
CALSCALE:GREGORIAN
METHOD:PUBLISH
XXXXXXXXXXXXXXXXXXXXXXXXXXXXXXXXXXXXXX
XXXXXXXXXXXXXXXXXXXXXXXXXXXXXXXXXXXXX
XXXXXXXXXXXXXXXXXXXXXXXXXXXXXXXXXXXXXXXXXXXXXXXXX
BEGIN:VTIMEZONE
TZID:Europe/Budapest
BEGIN:DAYLIGHT
TZOFFSETFROM:+0100
TZOFFSETTO:+0200
TZNAME:CEST
DTSTART:20260329T010000
END:DAYLIGHT
BEGIN:STANDARD
TZOFFSETFROM:+0200
TZOFFSETTO:+0100
TZNAME:CET
DTSTART:20261025T010000
END:STANDARD
END:VTIMEZONE
BEGIN:VEVENT
DTSTART;TZID=Europe/Budapest:20260311T110000
DTEND;TZID=Europe/Budapest:20260311T120000
DTSTAMP:20260420T005528
CREATED:20260302T124948Z
LAST-MODIFIED:20260302T124948Z
UID:41483-1773226800-1773230400@relnet.hu
SUMMARY:Egységes szerver- és VM-védelem MSP-knek a kiberreziliencia jegyében
DESCRIPTION:Csatlakozzon az Acronis webináriumához március 11-én\, ahol a gyártó szakértői bemutatják\, miként építhető ki valódi kibertudatos reziliencia az Acronis Cyber Protect Cloud platformmal\, amely egyetlen felületen egyesíti a mentést\, a katasztrófa utáni helyreállítást (DR) és a kiberbiztonságot. \nREGISZTRÁCIÓ\n\nIdőpont: 2026. március 11. (szerda) | 11:00–12:00 \nA hagyományos mentési mutatók\, mint az RTO (helyreállítási gyorsaság) és az RPO (adatvesztési tolerancia)\, ma már önmagukban nem garantálják a sikert egy incidens esetén. A különálló\, szigetszerűen működő szerver- és VM-védelmi eszközök pedig biztonsági réseket hagynak\, lassítják a reakcióidőt és feleslegesen bonyolítják a helyreállítást. \nA webinárium főbb témái: \n\nEszközközpontúság helyett egység: Hogyan csökkenti az integrált védelem az eszközök számát (tool sprawl)\, a technikusok leterheltségét és a riasztási fáradtságot.\nÚj mérőszámok a sikerhez: Miért nem elegendő már az RTO és az RPO? Ismerje meg\, miért tükrözi jobban a valóságot az MTCR (tiszta helyreállításig eltelt átlagos idő) és az MTD (maximálisan elviselhető állásidő).\nIntegrált védelem a gyakorlatban: Hogyan javítja az összevont mentés és DR a szerverek és virtuális gépek helyreállítási esélyeit.\nÉlő demó: Tekintse meg a helyreállítás folyamatát\, beleértve a DR átállást (failover) és a visszatöltést (failback).\n\nElőadók: \n\nSubramani Rao\, Senior Manager\, Cybersecurity Solutions Strategy\nFrancisco Reborias Martinez\, Solutions Engineer\n\nZárja be a biztonsági réseket\, és nyújtson ügyfeleinek olyan üzembiztonságot\, amely valóban ellenállóvá teszi őket a modern fenyegetésekkel szemben! \n 
URL:https://relnet.hu/en/rendezveny/egyseges-szerver-es-vm-vedelem-msp-knek-a-kiberreziliencia-jegyeben/
LOCATION:Virtual event
CATEGORIES:Acronis
ATTACH;FMTTYPE=image/jpeg:https://relnet.hu/wp-content/uploads/2026/03/AcronisMSP-MIN.jpg
END:VEVENT
END:VCALENDAR