BEGIN:VCALENDAR
VERSION:2.0
PRODID:-//RelNet Technológia Kft. - ECPv5.16.4//NONSGML v1.0//EN
CALSCALE:GREGORIAN
METHOD:PUBLISH
XXXXXXXXXXXXXXXXXXXXXXXXXXXXXXXXXXXXXX
XXXXXXXXXXXXXXXXXXXXXXXXXXXXXXXXXXXXX
XXXXXXXXXXXXXXXXXXXXXXXXXXXXXXXXXXXXXXXXXXXXXXXXX
BEGIN:VTIMEZONE
TZID:Europe/Budapest
BEGIN:DAYLIGHT
TZOFFSETFROM:+0100
TZOFFSETTO:+0200
TZNAME:CEST
DTSTART:20200329T010000
END:DAYLIGHT
BEGIN:STANDARD
TZOFFSETFROM:+0200
TZOFFSETTO:+0100
TZNAME:CET
DTSTART:20201025T010000
END:STANDARD
END:VTIMEZONE
BEGIN:VEVENT
DTSTART;TZID=Europe/Budapest:20200618T150000
DTEND;TZID=Europe/Budapest:20200618T150000
DTSTAMP:20260419T232833
CREATED:20200617T151010Z
LAST-MODIFIED:20200617T151820Z
UID:7206-1592492400-1592492400@relnet.hu
SUMMARY:Élő bemutató arról\, hogyan csökkenthető a hálózat komplexitása a Juniper SD-Branch megoldásával!
DESCRIPTION:Az IT biztonság folyamatos és szükséges növelésének eredményeként megszaporodtak a felhasználói panaszok a hálózat sebességére? A Juniper erre is tudja a megoldást! \nA Juniper SD-WAN/SD-Branch technológiájával az IT biztonság fenntartása nem csökkenti a hálózat teljesítményét.\nJelentkezzen a Juniper SD-WAN Thursdays webináriumára és az élő bemutató segítségével ismerje meg\, hogyan segítheti munkáját a Juniper SD-Branch! \nA főbb témakörök a következők lesznek:\n\nA műveletek egyszerűsítése\, és az alkalmazottak felhasználói élményének javítása\nIrányítás a Juniper intuitív felhasználói felületén keresztül\nA hálózat bővítése WAN eszközökkel.\n\nRegisztráljon most a Juniper élő bemutatójára!\n\n\nJuniper SD-WAN Thursdays\nÉlő bemutató /webinárium \nA következő időpontokban nézhető meg: \n2020. június 18. 15:00 \n2020. július 2. 15:00 \n2020. július 16. 15:00 \nRegisztrációkor válassza az Önnek megfelelő időpontot! \nREGISZTRÁCIÓ\n\n  \nKapcsolódó tartalom:\nJavítsa a hálózati infrastruktúra működését és csökkentse a költségeket következetes WAN-LAN menedzsmenttel \nA piacon elérhető SD-WAN\, LAN és SD-Branch megoldások összehasonlítása \nJuniper Secure SD-WAN
URL:https://relnet.hu/en/rendezveny/elo-bemutato-arrol-hogyan-csokkentheto-a-halozat-komplexitasa-a-juniper-sd-branch-megoldasaval/2020-06-18/
LOCATION:Virtual event
CATEGORIES:Gyártó,Juniper Networks,Mesterséges intelligencia,Végfelhasználó,Viszonteladó
ATTACH;FMTTYPE=image/png:https://relnet.hu/wp-content/uploads/2020/06/SD-WAN-live-demo2.png
END:VEVENT
END:VCALENDAR