BEGIN:VCALENDAR
VERSION:2.0
PRODID:-//RelNet Technológia Kft. - ECPv5.16.4//NONSGML v1.0//EN
CALSCALE:GREGORIAN
METHOD:PUBLISH
XXXXXXXXXXXXXXXXXXXXXXXXXXXXXXXXXXXXXX
XXXXXXXXXXXXXXXXXXXXXXXXXXXXXXXXXXXXX
XXXXXXXXXXXXXXXXXXXXXXXXXXXXXXXXXXXXXXXXXXXXXXXXX
BEGIN:VTIMEZONE
TZID:Europe/Budapest
BEGIN:DAYLIGHT
TZOFFSETFROM:+0100
TZOFFSETTO:+0200
TZNAME:CEST
DTSTART:20250330T010000
END:DAYLIGHT
BEGIN:STANDARD
TZOFFSETFROM:+0200
TZOFFSETTO:+0100
TZNAME:CET
DTSTART:20251026T010000
END:STANDARD
END:VTIMEZONE
BEGIN:VEVENT
DTSTART;TZID=Europe/Budapest:20251209T163000
DTEND;TZID=Europe/Budapest:20251209T173000
DTSTAMP:20260420T015217
CREATED:20251118T150306Z
LAST-MODIFIED:20251208T074931Z
UID:40121-1765297800-1765301400@relnet.hu
SUMMARY:Exkluzív AlgoSec kereskedelmi workshop a Sugár moziban
DESCRIPTION:Regisztráljon már most az AlgoSec workshopjára\, melyet a Sugár Mozi egyik termében rendezünk meg az eLearning díjátadó és zártkörű filmvetítés előtt! \nIdőpont: 2025. december 9. (kedd) | 16:30-17:30 \nHelyszín: Sugár Üzletközpont\, Sugár Mozi (Örs vezér tere\, 2. emelet) \nChristian Seybold\, az AlgoSec üzletfejlesztési igazgatója a következő témákkal fogja erősíteni a résztvevők AlgoSec-értékesítési lehetőségeit: \n\n\nAlapinformációk az AlgoSecről és fejlesztési ütemterv\n\n\nFelhasználási esetek\n\n\nAz üzleti szempontból legégetőbb ügyfélproblémák azonosítása\n\n\nIdeális ügyfélprofilok (ICP) készítése\n\n\nMilyen kérdéseket tegyünk fel az ügyfeleknek?\n\n\nAz AlgoSec Horizon platform előnyeinek és a brand erejének kiemelése\n\n\nÖsszehasonlítás a versenytársakkal\n\n\nA résztvevőknek 25 extra pontot írunk jóvá az eLearning rendszerünkben! \nREGISZTRÁLNI BEJELENTKEZÉS UTÁN LEHET A FENTI „JELENTKEZÉS A RENDEZVÉNYRE” GOMBRA KATTINTVA! \nAz AlgoSecről\nAz AlgoSec az alkalmazáskapcsolatok biztonságára összpontosít komplex\, hibrid hálózati környezetekben. Ennek fontos pillére a tűzfalak\, azok forgalmának\, valamint beállításainak és a vonatkozó megfelelőség folyamatos ellenőrzése\, menedzselése és riportálása. Az alkalmazásközpontú megközelítés gyakorlatias utat jelent a biztonságkezeléshez\, amely mélyreható láthatósággal párosul\, illetve a biztonsági változtatások automatizálásának a lehetőségével. A cég kiemelten kezeli az on-premise és a felhőalapú biztonsági megoldások egységesítését\, lehetővé téve az alkalmazások gyorsabb kézbesítését\, miközben javítja a biztonsági helyzetet és csökkenti a kockázatokat.
URL:https://relnet.hu/en/rendezveny/exkluziv-algosec-kereskedelmi-workshop-a-sugar-moziban/
LOCATION:Sugár Mozi\, Örs vezér tere 24.\, Budapest\, 1148\, Magyarország
CATEGORIES:AlgoSec,Végfelhasználó,Viszonteladó
ATTACH;FMTTYPE=image/jpeg:https://relnet.hu/wp-content/uploads/2025/11/AlgoSecWorkshopSugar-min.jpg
END:VEVENT
END:VCALENDAR