BEGIN:VCALENDAR
VERSION:2.0
PRODID:-//RelNet Technológia Kft. - ECPv5.16.4//NONSGML v1.0//EN
CALSCALE:GREGORIAN
METHOD:PUBLISH
XXXXXXXXXXXXXXXXXXXXXXXXXXXXXXXXXXXXXX
XXXXXXXXXXXXXXXXXXXXXXXXXXXXXXXXXXXXX
XXXXXXXXXXXXXXXXXXXXXXXXXXXXXXXXXXXXXXXXXXXXXXXXX
BEGIN:VTIMEZONE
TZID:Europe/Budapest
BEGIN:DAYLIGHT
TZOFFSETFROM:+0100
TZOFFSETTO:+0200
TZNAME:CEST
DTSTART:20230326T010000
END:DAYLIGHT
BEGIN:STANDARD
TZOFFSETFROM:+0200
TZOFFSETTO:+0100
TZNAME:CET
DTSTART:20231029T010000
END:STANDARD
END:VTIMEZONE
BEGIN:VEVENT
DTSTART;TZID=Europe/Budapest:20230912T180000
DTEND;TZID=Europe/Budapest:20230912T190000
DTSTAMP:20260419T220334
CREATED:20230711T112744Z
LAST-MODIFIED:20230711T112744Z
UID:30027-1694541600-1694545200@relnet.hu
SUMMARY:ExtraHop Live Attack webinárium
DESCRIPTION:Az Extrahop webináriuma a gyártó Reveal(x) 360 megoldásának integrációját mutatja be a CrowdStrike Falcon platformmal. Az előadók modern támadási technikák szimulációjával demózzák\, hogyan valósítható meg a hatékony és gyors válaszadás integrált hálózati és végponti intelligencia révén. \n  \nREGISZTRÁCIÓ\n\n  \nIdőpont: 2023. szeptember 12. (kedd) | 18:00 \n  \nAz egységes felhőalapú védelem a hálózaton és a végpontokon átfogó lefedettséget biztosít a vállalatok számára\, hogy a támadókat mozgás közben észrevegyék és azonnal megállítsák. \nEzen a webináriumon a szakértők a kiberbűnözők által használt támadási technikákat szimulálják és bemutatják\, hogy a szervezetek hogyan használhatják az ExtraHop és a CrowdStrike integrált hálózati és végponti intelligenciáját a betörések megállítására. \nA technikai jellegű bemutató végén az előadók válaszolnak a résztvevők kérdéseire.
URL:https://relnet.hu/en/rendezveny/extrahop-live-attack-webinarium/
LOCATION:Virtual event
CATEGORIES:ExtraHop
ATTACH;FMTTYPE=image/jpeg:https://relnet.hu/wp-content/uploads/2023/07/ExtraHopLiveAttackWebinar-min.jpg
END:VEVENT
END:VCALENDAR