BEGIN:VCALENDAR
VERSION:2.0
PRODID:-//RelNet Technológia Kft. - ECPv5.16.4//NONSGML v1.0//EN
CALSCALE:GREGORIAN
METHOD:PUBLISH
XXXXXXXXXXXXXXXXXXXXXXXXXXXXXXXXXXXXXX
XXXXXXXXXXXXXXXXXXXXXXXXXXXXXXXXXXXXX
XXXXXXXXXXXXXXXXXXXXXXXXXXXXXXXXXXXXXXXXXXXXXXXXX
BEGIN:VTIMEZONE
TZID:Europe/Budapest
BEGIN:DAYLIGHT
TZOFFSETFROM:+0100
TZOFFSETTO:+0200
TZNAME:CEST
DTSTART:20250330T010000
END:DAYLIGHT
BEGIN:STANDARD
TZOFFSETFROM:+0200
TZOFFSETTO:+0100
TZNAME:CET
DTSTART:20251026T010000
END:STANDARD
END:VTIMEZONE
BEGIN:VEVENT
DTSTART;TZID=Europe/Budapest:20250813T180000
DTEND;TZID=Europe/Budapest:20250813T190000
DTSTAMP:20260420T005456
CREATED:20250725T080214Z
LAST-MODIFIED:20250725T080214Z
UID:38696-1755108000-1755111600@relnet.hu
SUMMARY:ExtraHop RevealX 25.3 – Partneri webinárium
DESCRIPTION:Ismerje meg az ExtraHop legfrissebb fejlesztéseit! \nREGISZTRÁCIÓ\n\nIdőpont: 2025. augusztus 13. (szerda) | 18:00-19:00 \nAz ExtraHop RevealX legújabb\, 25.3-as verziójával még gyorsabbá és hatékonyabbá válik a hálózati események vizsgálata: fejlett csomagszintű elemzéssel\, továbbfejlesztett és finomhangolható detekciós képességekkel\, valamint kibővített integrációkkal – például a CrowdStrike irányába. \nA webinárium bemutatja\, hogyan segít az új verzió az azonosításon alapuló vizsgálatokban\, a felhasználói viselkedés elemzésében\, valamint a zajcsökkentésben\, hogy a SOC-elemzők gyorsabban hozzájuthassanak a releváns információkhoz. \nA webinárium főbb témái: \n\nEnd-to-end csomagszintű forgalomelemzés\nTovábbfejlesztett észlelésbeállítások\nFrissítések a ransomware-érzékelésre vonatkozóan\nKétirányú észlelési integráció a CrowdStrike megoldásaival\nKérdések és válaszok\n\nElőadók: \n\nGrant Dishman\, Director Channel Sales Engineering\nAlexis Robbins\, Senior Product Marketing Manager\nRobyn Fisher\, Principal Product Marketing Manager\nAdam Foit\, Senior Product Marketing Manager\n\nA regisztrált résztvevők az esemény után megkapják a webináriumról készített on-demand felvételt is.
URL:https://relnet.hu/en/rendezveny/extrahop-revealx-25-3-partneri-webinarium/
LOCATION:Virtual event
CATEGORIES:ExtraHop,Viszonteladó,Webinárium
ATTACH;FMTTYPE=image/jpeg:https://relnet.hu/wp-content/uploads/2025/07/ExtraHopRevealx25-min.jpg
END:VEVENT
END:VCALENDAR