BEGIN:VCALENDAR
VERSION:2.0
PRODID:-//RelNet Technológia Kft. - ECPv5.16.4//NONSGML v1.0//EN
CALSCALE:GREGORIAN
METHOD:PUBLISH
XXXXXXXXXXXXXXXXXXXXXXXXXXXXXXXXXXXXXX
XXXXXXXXXXXXXXXXXXXXXXXXXXXXXXXXXXXXX
XXXXXXXXXXXXXXXXXXXXXXXXXXXXXXXXXXXXXXXXXXXXXXXXX
BEGIN:VTIMEZONE
TZID:Europe/Budapest
BEGIN:DAYLIGHT
TZOFFSETFROM:+0100
TZOFFSETTO:+0200
TZNAME:CEST
DTSTART:20200329T010000
END:DAYLIGHT
BEGIN:STANDARD
TZOFFSETFROM:+0200
TZOFFSETTO:+0100
TZNAME:CET
DTSTART:20201025T010000
END:STANDARD
END:VTIMEZONE
BEGIN:VEVENT
DTSTART;TZID=Europe/Budapest:20200408T130000
DTEND;TZID=Europe/Budapest:20200408T140000
DTSTAMP:20260420T043848
CREATED:20200407T161529Z
LAST-MODIFIED:20200407T161726Z
UID:5784-1586350800-1586354400@relnet.hu
SUMMARY:Extreme Channel webináriumok
DESCRIPTION:Tudjon meg többet a második negyed év promócióiról\, az Extreme partner programjáról vagy az IRIS konfigurációs segédeszközről az Extreme Networks partnereknek szóló webináriumain. \nA közelgő webináriumok a következők lesznek: \n\n\n\nDátum\nElőadás\n\n\n2020. április 8. \n13:00-14:00\n5 Things You Must to Know about Promos April-June’20\nREGISZTRÁCIÓ\n\n\n\n2020. április 21. \n11:00-12:00\nWhy team up with Extreme Networks\nREGISZTRÁCIÓ\n\n\n\n2020. április 22. \n13:00-14:00\nCreating kit list with IRIS for deal registration\nREGISZTRÁCIÓ\n\n\n\n\nJelentkezzen most!
URL:https://relnet.hu/en/rendezveny/extreme-channel-webinariumok/2020-04-08/
CATEGORIES:Extreme Networks,Gyártó,RelNet,Rendezvény,Viszonteladó,Webinárium
ATTACH;FMTTYPE=image/png:https://relnet.hu/wp-content/uploads/2019/06/Live-Webinar.png
END:VEVENT
END:VCALENDAR