BEGIN:VCALENDAR
VERSION:2.0
PRODID:-//RelNet Technológia Kft. - ECPv5.16.4//NONSGML v1.0//EN
CALSCALE:GREGORIAN
METHOD:PUBLISH
XXXXXXXXXXXXXXXXXXXXXXXXXXXXXXXXXXXXXX
XXXXXXXXXXXXXXXXXXXXXXXXXXXXXXXXXXXXX
XXXXXXXXXXXXXXXXXXXXXXXXXXXXXXXXXXXXXXXXXXXXXXXXX
BEGIN:VTIMEZONE
TZID:Europe/Budapest
BEGIN:DAYLIGHT
TZOFFSETFROM:+0100
TZOFFSETTO:+0200
TZNAME:CEST
DTSTART:20200329T010000
END:DAYLIGHT
BEGIN:STANDARD
TZOFFSETFROM:+0200
TZOFFSETTO:+0100
TZNAME:CET
DTSTART:20201025T010000
END:STANDARD
END:VTIMEZONE
BEGIN:VEVENT
DTSTART;TZID=Europe/Budapest:20200915T100000
DTEND;TZID=Europe/Budapest:20200915T130000
DTSTAMP:20260420T021828
CREATED:20200807T152300Z
LAST-MODIFIED:20200914T073743Z
UID:7715-1600164000-1600174800@relnet.hu
SUMMARY:Extreme Cloud IQ workshop a RelNetnél
DESCRIPTION:Ismerje meg az ExtremeCloud IQ-t az oktatótermi hands-on workshop-unk segítségével! \nPróbálja ki a wifi6 hozzáférési pontokat\, tapasztalja meg az iparág első végponttól végpontig felhővezérelt vezetéknélküli hálózati megoldását\, amely kihasználja a fejlett gépi tanulás és a mesterséges intelligencia nyújtotta képességeket! \nTapasztalja meg\, hogy az Extreme Cloud IQ segítségével hogyan\n\nvalósulhat meg egyszerűbben a kifinomult hálózatmenedzsment\,\njavíthatja az átláthatóságot és a vezérlést\, valamint\ncsökkentheti a költségeket és\na teljes nagyvállalati infrastruktúra bonyolultságát.\n\nTematika\nCloudIQ áttekintése \n\nA felhős környezet előnyei\n3. generációs felhő\nCloudIQ telepítési lehetőségek – Publikus/Privát/Helyi\n\nCloudIQ egyedi funkcióinak áttekintése \n\nPPSK\nPrivát ügyfélcsoportok\nFelhős konfigurációs csoportok és osztályozási szabályok\n\nHardverek áttekintése \n\n11ax AP portfólió\nSwitch & SD-WAN Router portfólió\n\nCloudIQ Demo \n\nGépi tanulás / Mesterséges intelligencia\n\nNetwork 360\nClient 360\nÖsszehasonlító elemzés\n\n\n\n\nAP üzembehelyezése\n\nKérjük\, hogy a workshopra – lehetőség szerint – hozzanak magukkal saját laptopot. \nAz ExtremeCloud IQ webináriumon résztvevők nemcsak kipróbálhatják az új hozzáférési pontokat\, de amennyiben egy pilot projektet hoznak\, egy hozzáférési pontot ingyenesen is kapnak!\nEzen felül a résztvevők között kisorsolunk egy Extreme AP305C-t is!*\n\n*A tájékoztatás nem teljeskörű a részletekért keresse kollégáinkat! \n  \nVegye fel ügyfeleivel a kapcsolatot és hívja meg őket az ExtremeCloud IQ bemutatójára\, mert az Extreme Networks a végfelhasználói szervezetek számára ingyenesen hozzáférhetővé tesz egy darab hozzáférési pontot (Extreme Access Point – AP)\, amelyet a szervezet azon képzett informatikai szakemberei használhatnak\, akiknek elsődleges feladata a szervezet hálózati infrastruktúrájának támogatása. \n\nA végfelhasználó promóció részleteit itt olvashatja:\nhttps://relnet.hu/rendezveny/extreme-networks-wireless-wednesday-cloud-iq-elo-bemutato-vegfelhasznaloknak/2020-06-03/ \nRegisztráljon most a workshopra!\nIdőpont: 2020.szeptember 15.\nA workshop 10:00-től 13:00-ig tart. \nElőadó: Bilku István \nAz előadások magyar nyelvűek. \nHelyszín: RelNet Technológia oktatótermében\nCím: 1047 Budapest\, Váci út 71. (Bejárat a Perényi Zsigmond utca felől.)\nParkolás: a RelNet udvarán és a környező utcákban is ingyenes. \n \nKapcsolódó tartalom:\nExtremeCloud IQ végfelhasználói webinárium és promóció \nA RelNet magyar nyelvű partner plus támogatást nyújt az Extreme Networks adatközponti megoldásaihoz \nWPA3: A WIFI biztonság következő generációja \nExtreme AP portfólió \nAP305C/AP305CX adatlap \n 
URL:https://relnet.hu/en/rendezveny/extreme-cloud-iq-workshop-a-relnetnel/
LOCATION:RelNet conference room\, Váci út 71.\, Budapest\, 1047\, Magyarország
CATEGORIES:Extreme Networks
ATTACH;FMTTYPE=image/png:https://relnet.hu/wp-content/uploads/2020/08/1.png
GEO:47.572774139773;19.081058942328
X-APPLE-STRUCTURED-LOCATION;VALUE=URI;X-ADDRESS=RelNet conference room Váci út 71. Budapest 1047 Magyarország;X-APPLE-RADIUS=500;X-TITLE=Váci út 71.:geo:19.081058942328,47.572774139773
END:VEVENT
END:VCALENDAR