BEGIN:VCALENDAR
VERSION:2.0
PRODID:-//RelNet Technológia Kft. - ECPv5.16.4//NONSGML v1.0//EN
CALSCALE:GREGORIAN
METHOD:PUBLISH
XXXXXXXXXXXXXXXXXXXXXXXXXXXXXXXXXXXXXX
XXXXXXXXXXXXXXXXXXXXXXXXXXXXXXXXXXXXX
XXXXXXXXXXXXXXXXXXXXXXXXXXXXXXXXXXXXXXXXXXXXXXXXX
BEGIN:VTIMEZONE
TZID:Europe/Budapest
BEGIN:DAYLIGHT
TZOFFSETFROM:+0100
TZOFFSETTO:+0200
TZNAME:CEST
DTSTART:20190331T010000
END:DAYLIGHT
BEGIN:STANDARD
TZOFFSETFROM:+0200
TZOFFSETTO:+0100
TZNAME:CET
DTSTART:20191027T010000
END:STANDARD
END:VTIMEZONE
BEGIN:VEVENT
DTSTART;TZID=Europe/Budapest:20190426T100000
DTEND;TZID=Europe/Budapest:20190426T110000
DTSTAMP:20260420T031024
CREATED:20190424T095911Z
LAST-MODIFIED:20190425T155430Z
UID:2049-1556272800-1556276400@relnet.hu
SUMMARY:Extreme Wi-Fi 6. Part II. Under the hood
DESCRIPTION:Extreme Wi-Fi 6. Part II. Under the hood \nExtreme Networks are inviting you to their next webinar that will be held at 10:00 am (CET) on April 26\, 2019.\nThis time they will continue to explore the new Wi-Fi 6 technology and will get under the hood to see the most important moving parts of the new standard. \nJoin this session to learn more about technical details of: \n\n802.11ax standard\,\nMCS rates\,\nOFDMA technololgy\,\nSpatial reuse\,\nDL/UL MU MIMO\,\nWiFi 6 design principles\n\nPlease note that this is an English language webinar and you can register through Extreme Networks’ website. \nREGISTER
URL:https://relnet.hu/en/rendezveny/extreme-wi-fi-6-ii-resz/
CATEGORIES:End user,Event,Extreme Networks,Reseller,Webinar
ATTACH;FMTTYPE=image/png:https://relnet.hu/wp-content/uploads/2019/03/Live-Webinar.png
END:VEVENT
END:VCALENDAR