BEGIN:VCALENDAR
VERSION:2.0
PRODID:-//RelNet Technológia Kft. - ECPv5.16.4//NONSGML v1.0//EN
CALSCALE:GREGORIAN
METHOD:PUBLISH
XXXXXXXXXXXXXXXXXXXXXXXXXXXXXXXXXXXXXX
XXXXXXXXXXXXXXXXXXXXXXXXXXXXXXXXXXXXX
XXXXXXXXXXXXXXXXXXXXXXXXXXXXXXXXXXXXXXXXXXXXXXXXX
BEGIN:VTIMEZONE
TZID:Europe/Budapest
BEGIN:DAYLIGHT
TZOFFSETFROM:+0100
TZOFFSETTO:+0200
TZNAME:CEST
DTSTART:20200329T010000
END:DAYLIGHT
BEGIN:STANDARD
TZOFFSETFROM:+0200
TZOFFSETTO:+0100
TZNAME:CET
DTSTART:20201025T010000
END:STANDARD
END:VTIMEZONE
BEGIN:VEVENT
DTSTART;TZID=Europe/Budapest:20200311T190000
DTEND;TZID=Europe/Budapest:20200311T200000
DTSTAMP:20260420T045419
CREATED:20200107T145323Z
LAST-MODIFIED:20200211T143629Z
UID:4462-1583953200-1583956800@relnet.hu
SUMMARY:ExtremeCloud IQ bemutató webinárium
DESCRIPTION:Az Extreme Networks szerdánként az ExtremeCloud IQ-ról tart bemutató webináriumot.\nAz iparág első végponttól végpontig felhő-vezérelt nagyvállalati hálózata kihasználja a fejlett gépi tanulás és a mesterséges intelligencia nyújtotta képességeket\, melyek segítségével \n\negyszerűbben valósulhat meg a kifinomult hálózat menedzsment\,\njavítja az átláthatóságot és a vezérlést\, valamint\ncsökkenti a költségeket és\na teljes nagyvállalati infrastuktúra bonyolultságát.\n\n\n\nJelentkezzen már most az Extreme Networks oldalán! \nExtreme Networks Wireless Wednesday Demo\nWebinárium \n2020-ban szerdánként 19:00 CET \nREGISZTRÁCIÓ\n\nKapcsolódó hír:\nWPA3: A WiFi biztonság következő generációja \n 
URL:https://relnet.hu/en/rendezveny/extremecloud-iq-bemutato-webinarium-2020-03-11-2/
CATEGORIES:Extreme Networks,Gyártó,Végfelhasználó,Viszonteladó,Webinárium,Wifi
ATTACH;FMTTYPE=image/png:https://relnet.hu/wp-content/uploads/2020/01/Web-1.png
END:VEVENT
END:VCALENDAR