BEGIN:VCALENDAR
VERSION:2.0
PRODID:-//RelNet Technológia Kft. - ECPv5.16.4//NONSGML v1.0//EN
CALSCALE:GREGORIAN
METHOD:PUBLISH
XXXXXXXXXXXXXXXXXXXXXXXXXXXXXXXXXXXXXX
XXXXXXXXXXXXXXXXXXXXXXXXXXXXXXXXXXXXX
XXXXXXXXXXXXXXXXXXXXXXXXXXXXXXXXXXXXXXXXXXXXXXXXX
BEGIN:VTIMEZONE
TZID:Europe/Budapest
BEGIN:DAYLIGHT
TZOFFSETFROM:+0100
TZOFFSETTO:+0200
TZNAME:CEST
DTSTART:20200329T010000
END:DAYLIGHT
BEGIN:STANDARD
TZOFFSETFROM:+0200
TZOFFSETTO:+0100
TZNAME:CET
DTSTART:20201025T010000
END:STANDARD
END:VTIMEZONE
BEGIN:VEVENT
DTSTART;TZID=Europe/Budapest:20200709T100000
DTEND;TZID=Europe/Budapest:20200709T130000
DTSTAMP:20260420T045115
CREATED:20200529T191205Z
LAST-MODIFIED:20200707T095836Z
UID:7285-1594288800-1594299600@relnet.hu
SUMMARY:Extreme Cloud IQ workshop újra a RelNetnél
DESCRIPTION:Ismerje meg az ExtremeCloud IQ-t az oktatótermi hands-on workshop-unk segítségével! \nPróbálja ki a wifi6 hozzáférési pontokat\, tapasztalja meg az iparág első végponttól végpontig felhő-vezérelt vezeték-nélküli hálózati megoldását\, amely kihasználja a fejlett gépi tanulás és a mesterséges intelligencia nyújtotta képességeket! \nTapasztalja meg\, hogyan\n\nvalósulhat meg egyszerűbben a kifinomult hálózatmenedzsment\,\njavítja az átláthatóságot és a vezérlést\, valamint\ncsökkenti a költségeket és\na teljes nagyvállalati infrastruktúra bonyolultságát.\n\nTematika\nCloudIQ áttekintése \n\n   A felhős környezet előnyei\n  3. generációs felhő\n  CloudIQ telepítési lehetőségek – Publikus/Privát/Helyi\n\nCloudIQ egyedi funkcióinak áttekintése \n\n PPSK\n Privát ügyfélcsoportok\n Felhős konfigurációs csoportok és osztályozási szabályok  \n\nHardverek áttekintése \n\n11ax AP portfólió\nSwitch & SD-WAN Router portfólió\n\nCloudIQ Demo \n\nGépi tanulás / Mesterséges intelligencia \n\n       Network 360\n       Client 360\n       Összehasonlító elemzés\n\n\n\n\nAP üzembehelyezése \n\nKérjük\, hogy a workshopra – lehetőség szerint – hozzanak magukkal saját laptopot. \nAz ExtremeCloud IQ webináriumon résztvevők nemcsak kipróbálhatják az új hozzáférési pontokat\, de amennyiben két pilot projektet hoznak\, egy hozzáférési pontot ingyenesen is kaphatnak.\nVegye fel ügyfeleivel a kapcsolatot és hívja meg őket az ExtremeCloud IQ bemutatójára\, mert az Extreme Networks a végfelhasználói szervezetek számára ingyenesen hozzáférhetővé tesz egy darab hozzáférési pontot (Extreme Access Point – AP)\, amelyet a szervezet azon képzett informatikai szakemberei használhatnak\, akiknek elsődleges feladata a szervezet hálózati infrastruktúrájának támogatása. \n\nA végfelhasználó promóció részleteit itt olvashatja:\nhttps://relnet.hu/rendezveny/extreme-networks-wireless-wednesday-cloud-iq-elo-bemutato-vegfelhasznaloknak/2020-06-03/ \nRegisztráljon most a workshopra!\nIdőpont: 2020. július 9.\nA workshop 10:00-től 13:00-ig tart. \nElőadó: Bilku István \nAz előadások magyar nyelvűek. \nHelyszín: RelNet Technológia oktatótermében\nCím: 1047 Budapest\, Váci út 71. (Bejárat a Perényi Zsigmond utca felől.)\nParkolás: a RelNet udvarán és a környező utcákban is ingyenes. \n \nKapcsolódó tartalom:\nMeghirdették a WiFi4EU pályázat 4. és egyben utolsó fordulóját \nExtremeCloud IQ végfelhasználói webinárium és promóció \n3 AP 1 áráért viszonteladói promóció \nA RelNet magyar nyelvű partner plus támogatást nyújt az Extreme Networks adatközponti megoldásaihoz \nWPA3: A WIFI biztonság következő generációja \nExtreme AP portfólió \nAP305C/AP305CX adatlap \n 
URL:https://relnet.hu/en/rendezveny/extremecloud-iq-workshop-2020-07-09/
LOCATION:RelNet conference room\, Váci út 71.\, Budapest\, 1047\, Magyarország
CATEGORIES:Extreme Networks,Gyártó,Mesterséges intelligencia,Oktatás,Rendezvény,Viszonteladó,Webinárium,Wifi
ATTACH;FMTTYPE=image/png:https://relnet.hu/wp-content/uploads/2020/05/Extreme_ws_2.png
ORGANIZER;CN="RelNet%20Technology%20Ltd.":MAILTO:marketing@relnet.hu
GEO:47.572774139773;19.081058942328
X-APPLE-STRUCTURED-LOCATION;VALUE=URI;X-ADDRESS=RelNet conference room Váci út 71. Budapest 1047 Magyarország;X-APPLE-RADIUS=500;X-TITLE=Váci út 71.:geo:19.081058942328,47.572774139773
END:VEVENT
END:VCALENDAR