BEGIN:VCALENDAR
VERSION:2.0
PRODID:-//RelNet Technológia Kft. - ECPv5.16.4//NONSGML v1.0//EN
CALSCALE:GREGORIAN
METHOD:PUBLISH
XXXXXXXXXXXXXXXXXXXXXXXXXXXXXXXXXXXXXX
XXXXXXXXXXXXXXXXXXXXXXXXXXXXXXXXXXXXX
XXXXXXXXXXXXXXXXXXXXXXXXXXXXXXXXXXXXXXXXXXXXXXXXX
BEGIN:VTIMEZONE
TZID:Europe/Budapest
BEGIN:DAYLIGHT
TZOFFSETFROM:+0100
TZOFFSETTO:+0200
TZNAME:CEST
DTSTART:20210328T010000
END:DAYLIGHT
BEGIN:STANDARD
TZOFFSETFROM:+0200
TZOFFSETTO:+0100
TZNAME:CET
DTSTART:20211031T010000
END:STANDARD
END:VTIMEZONE
BEGIN:VEVENT
DTSTART;TZID=Europe/Budapest:20210615T120000
DTEND;TZID=Europe/Budapest:20210615T130000
DTSTAMP:20260420T043318
CREATED:20210526T122612Z
LAST-MODIFIED:20210526T145825Z
UID:15461-1623758400-1623762000@relnet.hu
SUMMARY:Folyamatos megfelelőség hibrid hálózatokon
DESCRIPTION:A vállalatok ma már rengeteg kibervédelmi gyártó és eszköz közül válogathatnak. Felmerül azonban a kérdés\, hogy ez vajon megoldja a problémákat\, vagy tovább növeli a hálózatbiztonság komplexitását. \nMegvannak-e Önnek és ügyfeleinek a szükséges erőforrásai ahhoz\, hogy kezeljék a különféle technológiákat? Ugyanis az nem elég\, ha ezek a megoldások szavatolják a biztonságot\, hanem gondoskodnunk kell a megfelelőségükről is. \nA Skybox Security június 15-i webináriumán megtudhatja\, hogyan lehet létrehozni az ügyfelek biztonsági és hálózati eszközeinek –  így például tűzfalainak\, felhőarchitektúrájának\, végpontjainak és OT környezetének – egységes modelljét\, ami jobb láthatóságot és megfelelőséget biztosít\, valamint a legtöbbet hozza ki a kiberbiztonsági beruházásokból. \nAzok a szolgáltató partnereink\, akik kombinálják saját képességeiket a Skybox fejlett analitikájával\, bizonyítottan nagyobb értéket tudnak kínálni ügyfeleinek\, és megoldják a kibervédelem mindennapi kihívásait. \nA webinárium előadói: \n\nMark Simmons\, értékesítési igazgató\, Skybox Security\nMatt Arneaud\, műszaki igazgató\, Skybox Security\n\nRegisztráljon most! \n\n\nContinuous compliance across hybrid networks\nSkybox Partner Webinárium\n2021. június 15. 12:00 CEST \nREGISZTRÁCIÓ\n\n 
URL:https://relnet.hu/en/rendezveny/folyamatos-megfeleloseg-hibrid-halozatokon/
LOCATION:Virtual event
CATEGORIES:Skybox Security
ATTACH;FMTTYPE=image/png:https://relnet.hu/wp-content/uploads/2021/05/Skybox-min.png
END:VEVENT
END:VCALENDAR