BEGIN:VCALENDAR
VERSION:2.0
PRODID:-//RelNet Technológia Kft. - ECPv5.16.4//NONSGML v1.0//EN
CALSCALE:GREGORIAN
METHOD:PUBLISH
XXXXXXXXXXXXXXXXXXXXXXXXXXXXXXXXXXXXXX
XXXXXXXXXXXXXXXXXXXXXXXXXXXXXXXXXXXXX
XXXXXXXXXXXXXXXXXXXXXXXXXXXXXXXXXXXXXXXXXXXXXXXXX
BEGIN:VTIMEZONE
TZID:Europe/Budapest
BEGIN:DAYLIGHT
TZOFFSETFROM:+0100
TZOFFSETTO:+0200
TZNAME:CEST
DTSTART:20190331T010000
END:DAYLIGHT
BEGIN:STANDARD
TZOFFSETFROM:+0200
TZOFFSETTO:+0100
TZNAME:CET
DTSTART:20191027T010000
END:STANDARD
END:VTIMEZONE
BEGIN:VEVENT
DTSTART;VALUE=DATE:20190301
DTEND;VALUE=DATE:20190302
DTSTAMP:20260420T063646
CREATED:20190124T150728Z
LAST-MODIFIED:20190311T155425Z
UID:1294-1551398400-1551484799@relnet.hu
SUMMARY:FortiClient végponti megoldás és központi menedzsment oktatás
DESCRIPTION:2019. március 1-én kerül megrendezésre a Fortinet FortiClient egynapos végponti megoldás és központi menedzsment oktatás elméleti\, gyakorlati és laborfeladatokat is tartalmazó részekkel. \nAz oktatásokon való részvételhez szükséges előfeltételek: \n• Hálózati alapismeretek \n• OSI referencia modell ismerete \n• TCP/IP protokoll család ismerete \n• FortiGate alapismeretek \nA FortiClient oktatás résztvevői képesek lesznek: \n• DialUP VPN szolgáltatás konfigurálására \n• FortiClient végpontok központi menedzselésére \n2019. március 1.\nA FortiClient Management alapismeretek oktatás tematikája: \n\nFortiClient Endpoint megoldás megismerése\nFortiGate SSL VPN\nFortiGate DialUP IPSEC VPN LABORFELADATOK\n\nEbédszünet \n\nFortiClient Modulok\nKözponti Management – EMS\n\nA férőhelyek száma korlátozott\, a regisztrációt a jelentkezés sorrendjében tudjuk elfogadni! \nAz előadások magyar nyelvűek. Az oktatás 9:00-től 17:00-ig tart. \nIdőpont: 2019. március 1. Helyszín: Az oktatás helyszíne a RelNet oktatóterme.Cím: 1047 Budapest\, Váci út 71. – Az épület és az udvar bejárata is a Perényi Zsigmond utcáról nyílik.Parkolás: Díjmentes a belső udvaron és a környező utcákban is. Részvételi díj: nettó 149.900 Ft/fő/nap +ÁFA\n \nTöbb jelentkező vagy több tréningen való részvételi szándék esetén kérje egyedi ajánlatunkat! \nKapcsolódó oktatások: \n2019. február 27. FortiGate Üzemeltetési alapismeretek I. 2019. február 28. FortiGate Üzemeltetési alapismeretek II. 2019. március 11. FortiGate Infrastructure: Haladó Üzemeltetési ismeretek I. 2019. március 12. FortiGate Infrastructure: Haladó Üzemeltetési ismeretek II. 2019. március 13. FortiManager 2019. március 14. FortiAnalyzer \nVegyen részt a teljes Fortinet sorozaton és kérje kedvező csomagárunkat! \nTovábbi oktatásaink:  \n2019. február 6-7. Extreme Networks – Extreme Wireless WiNG 2019. március 4-8. Juniper Networks oktatássorozat \nAz Ön igényeire szabott oktatásra van szüksége? Kérje ajánlatunkat! \n \n 
URL:https://relnet.hu/en/rendezveny/forticlient-vegponti-megoldas-es-kozponti-menedzsment-oktatas/
LOCATION:RelNet conference room\, Váci út 71.\, Budapest\, 1047\, Magyarország
CATEGORIES:EMS,FortiClient,Fortinet,Gyártó,Oktatás,Végfelhasználó,Viszonteladó
ATTACH;FMTTYPE=image/png:https://relnet.hu/wp-content/uploads/2019/01/FortiClient.png
ORGANIZER;CN="RelNet%20Technology%20Ltd.":MAILTO:marketing@relnet.hu
GEO:47.572774139773;19.081058942328
X-APPLE-STRUCTURED-LOCATION;VALUE=URI;X-ADDRESS=RelNet conference room Váci út 71. Budapest 1047 Magyarország;X-APPLE-RADIUS=500;X-TITLE=Váci út 71.:geo:19.081058942328,47.572774139773
END:VEVENT
END:VCALENDAR