BEGIN:VCALENDAR
VERSION:2.0
PRODID:-//RelNet Technológia Kft. - ECPv5.16.4//NONSGML v1.0//EN
CALSCALE:GREGORIAN
METHOD:PUBLISH
XXXXXXXXXXXXXXXXXXXXXXXXXXXXXXXXXXXXXX
XXXXXXXXXXXXXXXXXXXXXXXXXXXXXXXXXXXXX
XXXXXXXXXXXXXXXXXXXXXXXXXXXXXXXXXXXXXXXXXXXXXXXXX
BEGIN:VTIMEZONE
TZID:Europe/Budapest
BEGIN:DAYLIGHT
TZOFFSETFROM:+0100
TZOFFSETTO:+0200
TZNAME:CEST
DTSTART:20190331T010000
END:DAYLIGHT
BEGIN:STANDARD
TZOFFSETFROM:+0200
TZOFFSETTO:+0100
TZNAME:CET
DTSTART:20191027T010000
END:STANDARD
END:VTIMEZONE
BEGIN:VEVENT
DTSTART;VALUE=DATE:20190319
DTEND;VALUE=DATE:20190320
DTSTAMP:20260420T020735
CREATED:20190301T163124Z
LAST-MODIFIED:20190328T133155Z
UID:1909-1552953600-1553039999@relnet.hu
SUMMARY:Fortinet és Panda workshop március 19-én a RelNetnél
DESCRIPTION:2019. március 19-én a FortiOS 6.0 újdonságait és a Panda Securityt bemutató workshopot tartunk. \nA FortiOS 6.0 újdonságai workshop a már egy éve megjelent legfrissebb főverzióra idén frissíteni szándékozóknak és a még kiváróknak egyaránt hasznos.\nA workshop során megismerhetitek a gyártó által kiemelten fontosnak tartott funkciókat. Az előadásokat és laborgyakorlatokat a Fortinet rendszermérnöke Kiss Zoltán tartja. \nA FortiOS több\, mint egy tűzfal operációsrendszer\, hiszen átfogó kapcsolatot és tudatosságot eredményez az információbiztonság elemei között és a hálózat teljes egésze átlátható\, a végponttól a magas szintű egységes menedzsment funkciókig. A FortiOS már évek óta a FortiGate új generációs tűzfalainak (NGFW) motorja\, világszerte szinte minden iparágban jelen van\, több ezer ügyfelet kiszolgálva. A sokszínű ügyfélkör igényei széles skálán mozognak\, de a több mint 200 új funkció és képesség közül mindenki megtalálja a számára érdekeset. Vannak azonban olyan fejlesztések is a 6.0 verzióban\, amelyek mindenki számára egyformán fontosak. Azon a kulcsfontosságú küldetésén túl\, hogy a FortiOS 6.0 kulcsrakészen / out-of –the-box illeszkedik a Fortinet Security Fabric megoldásokhoz\, alkalmazása a következő három területen jár jelentős előnyökkel: \n\na harmadik generációs hálózati biztonság\,\naz SD-WAN\, és\na Fabric integráció területén\, amely révén megvalósítható az automatizálás.\n\nVárjuk technikai workshopunkra\, ahol a fentiek részletes műszaki bemutatása mellett laborgyakorlatok segítségével is megismerhetik a FortiOS 6.0 legfontosabb újdonságait!  \nIsmerje meg legújabb gyártónk\, a Panda Security termékeit első kézből! \nAz átfogó előadás során nemcsak piaci áttekintést\, de gyakorlati bemutatót is kap a Panda megoldásairól. Előadó: Bardócz Gyula – Panda Security Hungary Kereskedelmi Vezetője \nA Panda workshop tematikája: \n\nPiaci trendek\, információk\nPanda portfólió ismertetése\nPanda termékek bemutatása (konzol\, beállítások\, funkciók)\n\nPanda Endpoint Protection/Adaptive Defense \nKiegészítő modulok: \n\nPatch Management\nAdvanced Reporting Tool\nData Control\n\nPanda Systems Management (távüzemeltetés) \nTudja meg miért ad magasabb fokú biztonságot az Adaptive Defense EDR technológia! \nRegisztráljon még ma workshopjainkra! \nViszonteladóinknak ingyenes részvételi lehetőséget biztosítunk\, amihez előzetes regisztráció szükséges!\nA férőhelyek száma korlátozott\, a regisztrációt a jelentkezés sorrendjében tudjuk elfogadni!\n Az előadások magyar nyelvűek.\nA workshopok 9:00-től 17:00-ig tartanak.\nIdőpont: 2019. március 19.\nHelyszín: Az oktatás helyszíne a RelNet oktatóterme\nCím: 1047 Budapest\, Váci út 71. – Az épület és az udvar bejárata is a Perényi Zsigmond utcáról nyílik.\nParkolás: Díjmentes a belső udvaron és a környező utcákban is.
URL:https://relnet.hu/en/rendezveny/fortinet-es-panda-workshop-marcius-19-en-a-relnetnel/
LOCATION:RelNet conference room\, Váci út 71.\, Budapest\, 1047\, Magyarország
CATEGORIES:Fortinet,Panda Security,Reseller
ATTACH;FMTTYPE=image/png:https://relnet.hu/wp-content/uploads/2019/03/Header.png
GEO:47.572774139773;19.081058942328
X-APPLE-STRUCTURED-LOCATION;VALUE=URI;X-ADDRESS=RelNet conference room Váci út 71. Budapest 1047 Magyarország;X-APPLE-RADIUS=500;X-TITLE=Váci út 71.:geo:19.081058942328,47.572774139773
END:VEVENT
END:VCALENDAR