BEGIN:VCALENDAR
VERSION:2.0
PRODID:-//RelNet Technológia Kft. - ECPv5.16.4//NONSGML v1.0//EN
CALSCALE:GREGORIAN
METHOD:PUBLISH
XXXXXXXXXXXXXXXXXXXXXXXXXXXXXXXXXXXXXX
XXXXXXXXXXXXXXXXXXXXXXXXXXXXXXXXXXXXX
XXXXXXXXXXXXXXXXXXXXXXXXXXXXXXXXXXXXXXXXXXXXXXXXX
BEGIN:VTIMEZONE
TZID:Europe/Budapest
BEGIN:DAYLIGHT
TZOFFSETFROM:+0100
TZOFFSETTO:+0200
TZNAME:CEST
DTSTART:20190331T010000
END:DAYLIGHT
BEGIN:STANDARD
TZOFFSETFROM:+0200
TZOFFSETTO:+0100
TZNAME:CET
DTSTART:20191027T010000
END:STANDARD
END:VTIMEZONE
BEGIN:VEVENT
DTSTART;VALUE=DATE:20190227
DTEND;VALUE=DATE:20190228
DTSTAMP:20260420T065303
CREATED:20190124T150451Z
LAST-MODIFIED:20190312T115315Z
UID:1255-1551225600-1551311999@relnet.hu
SUMMARY:Fortinet FortiGate Üzemeltetési alapismeretek I. oktatás
DESCRIPTION:2019. február 27-én és 28-án kerül megrendezésre a Fortinet FortiGate kétszer egynapos alap üzemeltetői oktatás elméleti\, gyakorlati és laborfeladatokat is tartalmazó részekkel. Az oktatásokon való részvételhez szükséges előfeltételek: \n\nHálózati alapismeretek\nOSI referencia modell ismerete\nTCP/IP protokoll család ismerete\n\nA FortiGate Üzemeltetési alapismeretek oktatás résztvevői képesek lesznek: \n\nA Fortinet portfólió ismeretére\nA Fortinet eszközök azonosítására és rövid jellemzésére\nFortiGate gyári alapértelmezett paramétereinek visszaállítására\nKezdeti konfigurációs feladatok végrehajtására\nHálózati interfészek beállítására és ellenőrzésére\nFelhasználók konfigurálásának és hitelesítési módjainak leírására\nKépességek és szolgáltatások beállítására\, mint például rendszernaplózás (syslog) és nyomkövetés\, NTP\, konfiguráció archiválás\, SNMP\nFortiGate grafikus kezelőfelület kezelésére\nTűzfal szabályok létrehozására\n\n2019. február 27.\nAz üzemeltetési alapismeretek oktatás I. tematikája: \n\nBevezetés\nWebes erőforrások\nWebGUI\, CLI\n\nEbédszünet \n\nFelhasználó azonosítás\, Admin hozzáférés LABORFELADATOK\n\n\nLoggolás\, monitorozás LABORFELADATOK\n\nA férőhelyek száma korlátozott\, a regisztrációt a jelentkezés sorrendjében tudjuk elfogadni! \nAz előadások magyar nyelvűek.\nAz oktatás 9:00-től 17:00-ig tart.\nAz oktatás időpontja: 2019. február 27.\nHelyszín: Az oktatás helyszíne a RelNet oktatóterme.\nCím: 1047 Budapest\, Váci út 71. –  Az épület és az udvar bejárata is a Perényi Zsigmond utcáról nyílik.\nParkolás:  Díjmentes a belső udvaron és a környező utcákban is. Részvételi díj: nettó 149.900 Ft/fő/nap +ÁFA\n \nTöbb jelentkező vagy több tréningen való részvételi szándék esetén kérje egyedi ajánlatunkat!  \nKapcsolódó oktatások:\n2019. február 28. FortiGate Üzemeltetési alapismeretek II.\n2019. március   1. FortiClient és EMS\n2019. március 11. FortiGate Infrastructure: Haladó Üzemeltetési ismeretek I.\n2019. március 12. FortiGate Infrastructure: Haladó Üzemeltetési ismeretek II.\n2019. március 13. FortiManager\n2019. március 14. FortiAnalyzer\nVegyen részt a teljes Fortinet sorozaton és kérje kedvező csomagárunkat!\n \nTovábbi oktatásaink:\n2019. február 6-7.   Extreme Networks – Extreme Wireless WiNG\n2019. március 4-8. Juniper Networks oktatássorozat \nAz Ön igényeire szabott oktatásra van szüksége? Kérje ajánlatunkat!
URL:https://relnet.hu/en/rendezveny/fortinet-fortigate-uzemeltetesi-alapismeretek-i-oktatas/
LOCATION:RelNet conference room\, Váci út 71.\, Budapest\, 1047\, Magyarország
CATEGORIES:FortiGate,Fortinet,Gyártó,Oktatás,Végfelhasználó,Viszonteladó
ATTACH;FMTTYPE=image/png:https://relnet.hu/wp-content/uploads/2019/01/FortiGate-Üzemeltetési-Alapok.png
ORGANIZER;CN="RelNet%20Technology%20Ltd.":MAILTO:marketing@relnet.hu
GEO:47.572774139773;19.081058942328
X-APPLE-STRUCTURED-LOCATION;VALUE=URI;X-ADDRESS=RelNet conference room Váci út 71. Budapest 1047 Magyarország;X-APPLE-RADIUS=500;X-TITLE=Váci út 71.:geo:19.081058942328,47.572774139773
END:VEVENT
END:VCALENDAR