BEGIN:VCALENDAR
VERSION:2.0
PRODID:-//RelNet Technológia Kft. - ECPv5.16.4//NONSGML v1.0//EN
CALSCALE:GREGORIAN
METHOD:PUBLISH
XXXXXXXXXXXXXXXXXXXXXXXXXXXXXXXXXXXXXX
XXXXXXXXXXXXXXXXXXXXXXXXXXXXXXXXXXXXX
XXXXXXXXXXXXXXXXXXXXXXXXXXXXXXXXXXXXXXXXXXXXXXXXX
BEGIN:VTIMEZONE
TZID:Europe/Budapest
BEGIN:DAYLIGHT
TZOFFSETFROM:+0100
TZOFFSETTO:+0200
TZNAME:CEST
DTSTART:20200329T010000
END:DAYLIGHT
BEGIN:STANDARD
TZOFFSETFROM:+0200
TZOFFSETTO:+0100
TZNAME:CET
DTSTART:20201025T010000
END:STANDARD
END:VTIMEZONE
BEGIN:VEVENT
DTSTART;TZID=Europe/Budapest:20200618T170000
DTEND;TZID=Europe/Budapest:20200618T173000
DTSTAMP:20260420T020905
CREATED:20200617T132542Z
LAST-MODIFIED:20200617T135801Z
UID:7198-1592499600-1592501400@relnet.hu
SUMMARY:Garland előadás-sorozat esettanulmányokkal a packet broker és a TAP technológiákról
DESCRIPTION:A Garland Technology a folyamatos növekedésével párhuzamosan fejleszti a TAP-IT partnerprogramját. A Garland fontosnak tarja\, hogy segítse partnereit a siker felé vezető úton\, ezért mostantól havi rendszerességgel tartott webinárium-sorozatot indít. \nMinden hónapban más és más alkalmazási területeket mutatnak be\, így a partnerek esettanulmányokon keresztül fedezhetik fel a Garland Network TAP és a célhardver alapú hálózati packet broker megoldásait. \nA júniusi Channel Update a következőket tartalmazza:\n• Hogyan növelhető az árrés és az átlagos értékesítésből származó árbevétel?\n• Egy technológiai partner esettanulmánya\n• A partnerportál hírei \nJelentkezzen most!\n\n\nGarland Channel Update\nHow to Increase Your Margins with Garland Technology\nWebinárium\n2020. június 18. 17:00-17:30 \nREGISZTRÁCIÓ\n\nKapcsolódó tartalom:\nGarland Technology a  megbízható és gazdaságos TAP (Test Accces Point) és packet broker megoldásokat szállítója \nGarland Technology: Network TAPs ebook \nHelyszíni hibaelhárítást támogató\, FieldTAP eszközzel bővült a Garland Technology kínálata!
URL:https://relnet.hu/en/rendezveny/garland-eloadas-sorozat-esettanulmanyokkal-a-packet-broker-es-tap-technologiakrol/
LOCATION:Virtual event
CATEGORIES:Garland Technology,Gyártó,Viszonteladó,Webinárium
ATTACH;FMTTYPE=image/png:https://relnet.hu/wp-content/uploads/2020/06/Channel-Update.png
END:VEVENT
END:VCALENDAR