BEGIN:VCALENDAR
VERSION:2.0
PRODID:-//RelNet Technológia Kft. - ECPv5.16.4//NONSGML v1.0//EN
CALSCALE:GREGORIAN
METHOD:PUBLISH
XXXXXXXXXXXXXXXXXXXXXXXXXXXXXXXXXXXXXX
XXXXXXXXXXXXXXXXXXXXXXXXXXXXXXXXXXXXX
XXXXXXXXXXXXXXXXXXXXXXXXXXXXXXXXXXXXXXXXXXXXXXXXX
BEGIN:VTIMEZONE
TZID:Europe/Budapest
BEGIN:DAYLIGHT
TZOFFSETFROM:+0100
TZOFFSETTO:+0200
TZNAME:CEST
DTSTART:20220327T010000
END:DAYLIGHT
BEGIN:STANDARD
TZOFFSETFROM:+0200
TZOFFSETTO:+0100
TZNAME:CET
DTSTART:20221030T010000
END:STANDARD
END:VTIMEZONE
BEGIN:VEVENT
DTSTART;TZID=Europe/Budapest:20220309T100000
DTEND;TZID=Europe/Budapest:20220309T110000
DTSTAMP:20260419T232858
CREATED:20220218T155023Z
LAST-MODIFIED:20220218T155023Z
UID:20585-1646820000-1646823600@relnet.hu
SUMMARY:Hálózati biztonság az Extreme Fabric Connecttel – Webinárium
DESCRIPTION:A hálózatbiztonság nem játék! Egy szervezet hálózatának határai a digitális transzformáció és a távmunka világában kiterjedtek a webre és elmosódtak\, ezért nagy kihívást jelent minden biztonsági rést betömni. Kutatások szerint mindössze 3 percbe telik feltörni egy IoT eszközt\, viszont 6 hónapig is tarthat ennek felfedezése. Ilyen feltételek közepette hogyan védhetők meg a szervezetek és infrastruktúrájuk? \nA március 9-én megrendezendő élő\, ingyenes\, angol nyelvű webinárium feltárja az Extreme Fabric Connect hálózatépítési és -üzemeltetési megoldás képességeit. \nTémák: \n\n’back-door’ belépési pontok eltörlése\,\nhálózaton belüli oldalirányú mozgások megakadályozása\,\na szervezet létfontosságú eszközeinek logikai elkülönítése\,\nnem biztonságos eszközök elkülönítése.\n\nIdőpont: 2022. március 9. (szerda)\, 10:00 CET \nREGISZTRÁCIÓ\n\nRegisztrálni az Extreme Networks weboldalán lévő űrlap kitöltésével lehet. Kattintson a gombra!
URL:https://relnet.hu/en/rendezveny/halozati-biztonsag-az-extreme-fabric-connecttel-webinarium/
LOCATION:Virtual event
CATEGORIES:Extreme Networks,Webinárium
ATTACH;FMTTYPE=image/png:https://relnet.hu/wp-content/uploads/2022/02/Fabric-min.png
END:VEVENT
END:VCALENDAR