BEGIN:VCALENDAR
VERSION:2.0
PRODID:-//RelNet Technológia Kft. - ECPv5.16.4//NONSGML v1.0//EN
CALSCALE:GREGORIAN
METHOD:PUBLISH
XXXXXXXXXXXXXXXXXXXXXXXXXXXXXXXXXXXXXX
XXXXXXXXXXXXXXXXXXXXXXXXXXXXXXXXXXXXX
XXXXXXXXXXXXXXXXXXXXXXXXXXXXXXXXXXXXXXXXXXXXXXXXX
BEGIN:VTIMEZONE
TZID:Europe/Budapest
BEGIN:DAYLIGHT
TZOFFSETFROM:+0100
TZOFFSETTO:+0200
TZNAME:CEST
DTSTART:20200329T010000
END:DAYLIGHT
BEGIN:STANDARD
TZOFFSETFROM:+0200
TZOFFSETTO:+0100
TZNAME:CET
DTSTART:20201025T010000
END:STANDARD
END:VTIMEZONE
BEGIN:VEVENT
DTSTART;TZID=Europe/Budapest:20200506T163000
DTEND;TZID=Europe/Budapest:20200506T173000
DTSTAMP:20260420T020853
CREATED:20200430T173305Z
LAST-MODIFIED:20200430T173305Z
UID:6301-1588782600-1588786200@relnet.hu
SUMMARY:Hibatűrő és gyorsan skálázható távoli asztal szolgáltatás a Microsoft RDS és a Kemp terheléselosztóinak összekapcsolásával
DESCRIPTION:Csatlakozzon a távoli asztal szolgáltatások szakértőjéhez\, Ryan Mangan-hoz és ismerje meg a Microsoft Remote Desktop Services 2019 megoldását! \nFedezze fel a Windows natív távoli elérés / virtuális asztal technológiájának előnyeit!  \nRyan bemutatja a magas rendelkezésre állást nyújtó és rugalmasan skálázható távoli asztal megoldás létrehozásának követelményeit\, valamint a terheléselosztók és a távoli asztal szolgáltatások összekapcsolásának előnyeit\, melynek eredményeként a szolgáltatás hibatűrő és egyenletes minőségű lesz minden felhasználó számára. \nElőadók: \nRyan Mangan – RDS Expert & CTO\, Systech IT Solutions\nFrank Yue\, Principal Application Experience Architect\, Kemp Technologies \nJelentkezzen most!\n\n\nScaling Remote Desktop Services Rapidly\nÉlő webinárium\n2020. május 6. 16:30-17:30 \nREGISZTRÁCIÓ
URL:https://relnet.hu/en/rendezveny/hibaturo-es-gyorsan-skalazhato-tavoli-asztal-szolgaltatas-a-microsoft-rds-es-a-kemp-terheleselosztoinak-osszekapcsolasaval/
LOCATION:Virtual event
CATEGORIES:Gyártó,Kemp Technologies,Oktatás,RelNet,Rendezvény,Végfelhasználó,Viszonteladó,Webinárium
ATTACH;FMTTYPE=image/png:https://relnet.hu/wp-content/uploads/2020/04/RDS.png
END:VEVENT
END:VCALENDAR