BEGIN:VCALENDAR
VERSION:2.0
PRODID:-//RelNet Technológia Kft. - ECPv5.16.4//NONSGML v1.0//EN
CALSCALE:GREGORIAN
METHOD:PUBLISH
XXXXXXXXXXXXXXXXXXXXXXXXXXXXXXXXXXXXXX
XXXXXXXXXXXXXXXXXXXXXXXXXXXXXXXXXXXXX
XXXXXXXXXXXXXXXXXXXXXXXXXXXXXXXXXXXXXXXXXXXXXXXXX
BEGIN:VTIMEZONE
TZID:Europe/Budapest
BEGIN:DAYLIGHT
TZOFFSETFROM:+0100
TZOFFSETTO:+0200
TZNAME:CEST
DTSTART:20220327T010000
END:DAYLIGHT
BEGIN:STANDARD
TZOFFSETFROM:+0200
TZOFFSETTO:+0100
TZNAME:CET
DTSTART:20221030T010000
END:STANDARD
END:VTIMEZONE
BEGIN:VEVENT
DTSTART;TZID=Europe/Budapest:20220825T170000
DTEND;TZID=Europe/Budapest:20220825T180000
DTSTAMP:20260422T145431
CREATED:20220817T094930Z
LAST-MODIFIED:20220818T130806Z
UID:24261-1661446800-1661450400@relnet.hu
SUMMARY:How to Add Layered Protection to Cloud Applications
DESCRIPTION:Organizations adopting Cloud must consider the challenges of securing applications from vulnerabilities and protecting their end-users from encountering availability or performance issues. \nIn this webinar\, Progress Kemp will show how to effectively deploy layered protection to secure Cloud applications and optimize for a better application experience. \nJoin Progress Kemp Principal Product Manager Maurice McMullin for a discussion of: \n– Why layered application protection is needed\n– How to deploy layered security for Cloud applications and deployment best practices\n– How layered security defends against attacks and emerging cyber threats \nJoin us for this webinar\, “How to Add Layered Protection to Cloud Applications\,” where we guide you through the steps of securing cloud applications with layered defense from Progress Kemp LoadMaster load balancer solutions. \nSpeaker: Maurice McMullin\, Product Marketing\, Progress Kemp
URL:https://relnet.hu/en/rendezveny/hogyan-adjunk-tobbszintu-vedelmet-a-felhoalapu-alkalmazasoknak/
LOCATION:Virtual event
CATEGORIES:Kemp,Progress
ATTACH;FMTTYPE=image/png:https://relnet.hu/wp-content/uploads/2022/08/Nyersanyag.png
END:VEVENT
END:VCALENDAR