BEGIN:VCALENDAR
VERSION:2.0
PRODID:-//RelNet Technológia Kft. - ECPv5.16.4//NONSGML v1.0//EN
CALSCALE:GREGORIAN
METHOD:PUBLISH
XXXXXXXXXXXXXXXXXXXXXXXXXXXXXXXXXXXXXX
XXXXXXXXXXXXXXXXXXXXXXXXXXXXXXXXXXXXX
XXXXXXXXXXXXXXXXXXXXXXXXXXXXXXXXXXXXXXXXXXXXXXXXX
BEGIN:VTIMEZONE
TZID:Europe/Budapest
BEGIN:DAYLIGHT
TZOFFSETFROM:+0100
TZOFFSETTO:+0200
TZNAME:CEST
DTSTART:20200329T010000
END:DAYLIGHT
BEGIN:STANDARD
TZOFFSETFROM:+0200
TZOFFSETTO:+0100
TZNAME:CET
DTSTART:20201025T010000
END:STANDARD
END:VTIMEZONE
BEGIN:VEVENT
DTSTART;TZID=Europe/Budapest:20200617T100000
DTEND;TZID=Europe/Budapest:20200617T120000
DTSTAMP:20260420T005531
CREATED:20200611T144754Z
LAST-MODIFIED:20200611T144757Z
UID:6956-1592388000-1592395200@relnet.hu
SUMMARY:Hogyan fejleszthető az egyetemi informatika és infrastruktúra az Extreme Networks segítségével?
DESCRIPTION:Az Extreme Networks következő webináriuma kifejezetten az oktatási intézményeknek szól.\nAz előadás által a mai és a jövőbeli kapcsolattartás kihívásait és ezek egyszerű\, költséghatékony\, rugalmas\, agilis\, méretezhető és intelligens eszközöket alkalmazó hálózati megoldásait ismerheti meg. \nEzen webinárium során részletesen hallhat a campus hálózatépítés legújabb trendjeiről és az oktatásban már bevált gyakorlatokról\, melyek nagyban megkönnyíthetik az oktatásban dolgozó informatikai szakemberek mindennapi életét. \n  \nTanuljon a legjobbaktól! Az Extreme Networks hálózati megoldásait már világszerte több mint 17 000 iskolában és 4500 egyetemen telepítették és használják. De\, hogy ezt ne csak az Extreme-től hallják\, a webinárium során egy felsőoktatási ügyfél képviselője is elmeséli a történetét! \nA lecke\, amelyet meg kell tanulni: A jövő most van! Ne maradjunk le. \nEbben\, a gyors ütemben\, folyamatosan fejlődő oktatási környezetben ügyelni kell arra\, hogy a hálózat is képes legyen tartani a lépést a változó igényekkel. \nA webináriumra várjuk az oktatási intézmények IT szakembereit\, rendszergazdáit\, valamint az Extreme partnereit is. \nRegisztráljon most!\n\n\nAdvance your university’s IT & infrastructure strategy with us!\nWebinárium\n2020. június 17. 10:00 \nREGISZTRÁCIÓ
URL:https://relnet.hu/en/rendezveny/hogyan-fejlesztheto-az-egyetemi-informatika-es-infrastruktura-az-extreme-networks-segitsegevel/
LOCATION:Virtual event
CATEGORIES:Extreme Networks,Gyártó,Oktatás,RelNet,Végfelhasználó,Viszonteladó,Webinárium
ATTACH;FMTTYPE=image/png:https://relnet.hu/wp-content/uploads/2020/06/Campus.png
END:VEVENT
END:VCALENDAR