BEGIN:VCALENDAR
VERSION:2.0
PRODID:-//RelNet Technológia Kft. - ECPv5.16.4//NONSGML v1.0//EN
CALSCALE:GREGORIAN
METHOD:PUBLISH
XXXXXXXXXXXXXXXXXXXXXXXXXXXXXXXXXXXXXX
XXXXXXXXXXXXXXXXXXXXXXXXXXXXXXXXXXXXX
XXXXXXXXXXXXXXXXXXXXXXXXXXXXXXXXXXXXXXXXXXXXXXXXX
BEGIN:VTIMEZONE
TZID:Europe/Budapest
BEGIN:DAYLIGHT
TZOFFSETFROM:+0100
TZOFFSETTO:+0200
TZNAME:CEST
DTSTART:20190331T010000
END:DAYLIGHT
BEGIN:STANDARD
TZOFFSETFROM:+0200
TZOFFSETTO:+0100
TZNAME:CET
DTSTART:20191027T010000
END:STANDARD
END:VTIMEZONE
BEGIN:VEVENT
DTSTART;TZID=Europe/Budapest:20191203T190000
DTEND;TZID=Europe/Budapest:20191203T200000
DTSTAMP:20260420T031138
CREATED:20191203T110202Z
LAST-MODIFIED:20191203T132919Z
UID:4211-1575399600-1575403200@relnet.hu
SUMMARY:Hogyan lehet a szolgáltatások bevételét a legegyszerűbben növelni?
DESCRIPTION:Ismerje meg hogyan nyújthat felhőalapú biztonsági mentést és adatvédelemi szolgáltatást egyszerűen ügyfeleinek! \nCsatlakozzon Greg Howard-hoz és Peter Giardino-hoz egy élő webináriumon és ismerje meg a modern kibervédelmi szolgáltatásokkal kapcsolatos kulcsfontosságú kérdéseket.\nSzerezzen gyakorlati ötleteket\, stratégiákat vállalkozása szolgáltatásból származó bevételeinek növeléséhez. \nA webinárium a következőkre tér ki: \n\nA felhőalapú szolgáltatási portfólió felépítéséhez és kezeléséhez szükséges ismeretek\nHogyan lehet az új felügyelt szolgáltatási platformok segítségével az indulási költségeket minimalizálni\, a hatékonyságot pedig növelni?\nHogyan lehet meghatározni\, hogy mely szolgáltatások segítik a vállalkozása egyedi növekedését?\nMiért a kibervédelem az a páratlan eszköz\, amelyre az ügyfeleinek szüksége van?\nKülönböző felhasználási esetek és példák\n\nJelentkezzen most! \n\n\nHow to Generate Services Revenue the Easiest Way – Cloud Backup and Data Protection Services\nÉlő webinárium\n2019. december 3. 19:00-20:00 CET \nREGISZTRÁCIÓ
URL:https://relnet.hu/en/rendezveny/hogyan-lehet-a-szolgaltatasok-bevetelet-a-legegyszerubben-novelni/
CATEGORIES:Acronis,Backup,Cyber Protection,Gyártó,Végfelhasználó,Viszonteladó,Webinárium
ATTACH;FMTTYPE=image/png:https://relnet.hu/wp-content/uploads/2019/12/LiveWebinar.png
END:VEVENT
END:VCALENDAR