BEGIN:VCALENDAR
VERSION:2.0
PRODID:-//RelNet Technológia Kft. - ECPv5.16.4//NONSGML v1.0//EN
CALSCALE:GREGORIAN
METHOD:PUBLISH
XXXXXXXXXXXXXXXXXXXXXXXXXXXXXXXXXXXXXX
XXXXXXXXXXXXXXXXXXXXXXXXXXXXXXXXXXXXX
XXXXXXXXXXXXXXXXXXXXXXXXXXXXXXXXXXXXXXXXXXXXXXXXX
BEGIN:VTIMEZONE
TZID:Europe/Budapest
BEGIN:DAYLIGHT
TZOFFSETFROM:+0100
TZOFFSETTO:+0200
TZNAME:CEST
DTSTART:20210328T010000
END:DAYLIGHT
BEGIN:STANDARD
TZOFFSETFROM:+0200
TZOFFSETTO:+0100
TZNAME:CET
DTSTART:20211031T010000
END:STANDARD
END:VTIMEZONE
BEGIN:VEVENT
DTSTART;TZID=Europe/Budapest:20210225T140000
DTEND;TZID=Europe/Budapest:20210225T150000
DTSTAMP:20260420T145454
CREATED:20210209T144856Z
LAST-MODIFIED:20210223T145742Z
UID:13690-1614261600-1614265200@relnet.hu
SUMMARY:Hogyan védi a Radware Bot Managere a Magyarországról üzemeltetett Lensa.com állásközvetítő portált?
DESCRIPTION:Tisztelettel meghívjuk Önt a Radware és a RelNet közös szervezésében megrendezésre kerülő virtuális kerekasztal beszélgetésre\, melynek témája: \nHogyan védi a Radware Bot Managere a Magyarországról üzemeltetett Lensa.com állásközvetítő portált?\nTartson velünk és ismerje meg\, hogy a Lensa.com\, az USA egyik legnagyobb álláskereső portálja\, melyet az a Vári Gergely alapított\, aki korábban a Profession.hu alapítója is volt\, miért választotta a Radware Bot Manager megoldását és milyen tapasztalatokat szerzett vele! \nA résztevőknek természetesen lehetőségük lesz kérdéseket feltenni\, illetve egymással is megvitatni a felmerülő gondolatokat. \nA virtuális kerekasztal előadói: \nCsőke Árpád\, System Architect\, Lensa \nEran Danino\, Regional Sales Manager SEE\, Radware \nVarga Péter\, Üzletfejlesztési igazgató\, RelNet Technológia \nIdőpont:  \n2021. február 25. csütörtök 14:00-15:00 \nA részvétel ingyenes\, de előzetes regisztrációhoz kötött! \nA résztvevők ingyenesen kaphatnak egy 30 napos Radware “Free Cloud Services Evaluation” hozzáférést\, mellyel kipróbálhatják a Radware felhőalapú szolgáltatását. \n Várjuk Önt is!\n\n \nMicrosoft Teams meeting\nCsatlakozhat számítógépről vagy mobil applikációval \nIde kattintva csatlakozhat a virtuális kerekasztalbeszélgetéshez \nTudjon meg többet | Meeting beállítások \n\n\nKapcsolódó tartalom:\nRadware Named 2020 SPARK Matrix™ Leader in Bot Management \n \n  \n  \n  \n  \n  \n  \n  \n  \n  \n  \n  \nAz alkalmazásfejlesztés nem tart lépést az alkalmazásbiztonsággal \nRadware Global Application Security Report \nAppSec Infografika \n 
URL:https://relnet.hu/en/rendezveny/hogyan-vedi-a-radware-bot-managere-a-magyarorszagrol-uzemeltetett-lensa-com-allaskozvetito-portalt/
LOCATION:Virtual event
CATEGORIES:Radware,RelNet,Rendezvény,Végfelhasználó
ATTACH;FMTTYPE=image/jpeg:https://relnet.hu/wp-content/uploads/2021/02/vRoundTable-min.jpg
END:VEVENT
END:VCALENDAR