BEGIN:VCALENDAR
VERSION:2.0
PRODID:-//RelNet Technológia Kft. - ECPv5.16.4//NONSGML v1.0//EN
CALSCALE:GREGORIAN
METHOD:PUBLISH
XXXXXXXXXXXXXXXXXXXXXXXXXXXXXXXXXXXXXX
XXXXXXXXXXXXXXXXXXXXXXXXXXXXXXXXXXXXX
XXXXXXXXXXXXXXXXXXXXXXXXXXXXXXXXXXXXXXXXXXXXXXXXX
BEGIN:VTIMEZONE
TZID:Europe/Budapest
BEGIN:DAYLIGHT
TZOFFSETFROM:+0100
TZOFFSETTO:+0200
TZNAME:CEST
DTSTART:20240331T010000
END:DAYLIGHT
BEGIN:STANDARD
TZOFFSETFROM:+0200
TZOFFSETTO:+0100
TZNAME:CET
DTSTART:20241027T010000
END:STANDARD
END:VTIMEZONE
BEGIN:VEVENT
DTSTART;TZID=Europe/Budapest:20240925T110000
DTEND;TZID=Europe/Budapest:20240925T120000
DTSTAMP:20260420T005401
CREATED:20240918T120551Z
LAST-MODIFIED:20240918T120551Z
UID:35004-1727262000-1727265600@relnet.hu
SUMMARY:Intelligens automatizáció a Skybox Securitytől
DESCRIPTION:Regisztráljon a webináriumra\, hogy megtudja\, hogyan javíthatja a hálózati biztonságot és hatékonyságot a Skyboxszal\, és hogyan csökkentheti a költségeket az intelligens automatizálás segítségével! \n \nREGISZTRÁCIÓ\n \nIdőpont: 2024. szeptember 25. (szerda) | 11:00 \nA témák a biztonsági házirendek kezelésének automatizálását járják körbe\, gyakorlati betekintéssel az alábbiakba: \n\nHibrid hálózatok modellezése\nA hálózati útvonalak elemzése és a kitettség megértése\nTűzfalváltozások menedzsmentjének automatizálása végponttól végpontig\n\nA láthatóság hiánya\, az elszigetelt adatok\, a manuális folyamatok és a szakértelem hiánya miatt a hálózati biztonság\, a tűzfalkezelés és a megfelelőség költségei egyre inkább kicsúsznak a kezünkből. Az elavult és manuális biztonsági házirendkezelés nem tud lépést tartani a szervezet tűzfalakból és hálózati eszközökből álló összetett\, hibrid állományával. \nA szervezeteknek ezért automatizálniuk kell a hálózati biztonsági szabályok kezelését! \nA támadási felület láthatósága\, illetve a kontextusokat feltáró intelligens automatizálás segíthet a hatékonyság növelésében\, a hálózati biztonság javításában\, valamint a tűzfalkezelési feladatok és a megfelelési költségek csökkentésében. \nElőadó: Sean Keef\, Senior Technical Director \n \nREGISZTRÁCIÓ
URL:https://relnet.hu/en/rendezveny/intelligens-automatizacio-a-skybox-securitytol/
LOCATION:Virtual event
CATEGORIES:Skybox Security,Webinárium
ATTACH;FMTTYPE=image/jpeg:https://relnet.hu/wp-content/uploads/2024/09/SKyboxIntelligensAutmatizacio-min.jpg
END:VEVENT
END:VCALENDAR