BEGIN:VCALENDAR
VERSION:2.0
PRODID:-//RelNet Technológia Kft. - ECPv5.16.4//NONSGML v1.0//EN
CALSCALE:GREGORIAN
METHOD:PUBLISH
XXXXXXXXXXXXXXXXXXXXXXXXXXXXXXXXXXXXXX
XXXXXXXXXXXXXXXXXXXXXXXXXXXXXXXXXXXXX
XXXXXXXXXXXXXXXXXXXXXXXXXXXXXXXXXXXXXXXXXXXXXXXXX
BEGIN:VTIMEZONE
TZID:Europe/Budapest
BEGIN:DAYLIGHT
TZOFFSETFROM:+0100
TZOFFSETTO:+0200
TZNAME:CEST
DTSTART:20200329T010000
END:DAYLIGHT
BEGIN:STANDARD
TZOFFSETFROM:+0200
TZOFFSETTO:+0100
TZNAME:CET
DTSTART:20201025T010000
END:STANDARD
END:VTIMEZONE
BEGIN:VEVENT
DTSTART;TZID=Europe/Budapest:20200316T100000
DTEND;TZID=Europe/Budapest:20200316T110000
DTSTAMP:20260420T003113
CREATED:20200304T085614Z
LAST-MODIFIED:20200304T091755Z
UID:5113-1584352800-1584356400@relnet.hu
SUMMARY:Introducing the new version of the Sophos Network Security Solution
DESCRIPTION:IT managers frequently report that a lack of visibility into application traffic and risks\, protection from the latest threats\, and challenges with network performance are among their top concerns. \nSophos XG Firewall v18 provides comprehensive\, next-gen firewall protection that blocks unknown threats\, automatically responds to incidents\, and exposes hidden risks. \nJoin Branko Pujic\, Sophos System Engineer\, to learn how Sophos XG Firewall v18 helps organizations overcome: \n\nNetwork visibility issues due to encryption and the failings of signature-based app detection\nRansomware attacks from ever evolving hacks and threats\nTraffic and application management in distributed networks\nBandwidth concerns interfering with mission critical SaaS and communication apps\n\nNote: If you are unable to attend our webinars due to other commitments\, please still be sure to register. You will automatically receive a link to the recording after the webinar. \n\n \nWorld’s Best Network Protection with Sophos XG Firewall v18\nWebinar\n16th March 2020 10:00-11:00 (CET) \nREGISTER NOW\n\n 
URL:https://relnet.hu/en/rendezveny/introducing-the-new-version-of-the-sophos-network-security-solution/
CATEGORIES:End user,Sophos,Vendor,Webinar
ATTACH;FMTTYPE=image/png:https://relnet.hu/wp-content/uploads/2020/03/Webinar_V18.png
END:VEVENT
END:VCALENDAR