BEGIN:VCALENDAR
VERSION:2.0
PRODID:-//RelNet Technológia Kft. - ECPv5.16.4//NONSGML v1.0//EN
CALSCALE:GREGORIAN
METHOD:PUBLISH
XXXXXXXXXXXXXXXXXXXXXXXXXXXXXXXXXXXXXX
XXXXXXXXXXXXXXXXXXXXXXXXXXXXXXXXXXXXX
XXXXXXXXXXXXXXXXXXXXXXXXXXXXXXXXXXXXXXXXXXXXXXXXX
BEGIN:VTIMEZONE
TZID:Europe/Budapest
BEGIN:DAYLIGHT
TZOFFSETFROM:+0100
TZOFFSETTO:+0200
TZNAME:CEST
DTSTART:20200329T010000
END:DAYLIGHT
BEGIN:STANDARD
TZOFFSETFROM:+0200
TZOFFSETTO:+0100
TZNAME:CET
DTSTART:20201025T010000
END:STANDARD
END:VTIMEZONE
BEGIN:VEVENT
DTSTART;TZID=Europe/Budapest:20200512T130000
DTEND;TZID=Europe/Budapest:20200512T180000
DTSTAMP:20260420T135209
CREATED:20200512T074755Z
LAST-MODIFIED:20200512T075000Z
UID:6428-1589288400-1589306400@relnet.hu
SUMMARY:Ismerkedjen meg az új Acronis Cyber Protect Cloud megoldással!
DESCRIPTION:Szerezze meg az Acronis Certified Engineer képesítést kényelmesen\, a saját íróasztalánál ülve! \nEz az online képzés részletesen felkészíti Önt az Acronis Cyber ​​Protect Cloud kialakítására és az ügyfelek támogatására is. \nA szeminárium öt órás időtartamú\, amely végén vizsgát tehet és sikeres vizsga esetén „Acronis Certified Engineer” (ACE) minősítést szerez. \nElőadó: Steve Brining\, Acronis Partner Technology Evangelist Cyber Protect \nAz online szeminárium részletesen felkészíti Önt az ügyfelek támogatására és az internetes védelem sikeres kialakítására. \nTematika:\n\nBevezetése és a műszaki háttér ismertetése\nAz Acronis Backup Cloud bemutatása\nAz Acronis Backup Cloud telepítése és beállításai\nHelyreállítási műveletek\nIT biztonsági kérdések\nÜgyfelek menedzselése\nTudnivalók az ACE vizsgáról\n\nKépesítés:\nA webinárium után lehetősége van arra\, hogy “Acronis Certified Engineer” vizsgát tegyen. \nA vizsga a webináriumot követő egy héten belül bármikor letehető. \nA vizsga sikeres teljesítése után az Acronis visszaigazolja az „Acronis Certified Engineer” képesítést\, és kiállít egy oklevelet erről. \nFontos – felhívjuk a figyelmet arra\, hogy regisztrálni kell az Acronis Partner Portálra is!\nRegisztráljon most!\n\n\nAcronis Certified Engineer (ACE) Cyber Cloud képzés\nOnline webinárium\n2020. május 12. 13:00-18:00 \n  \nREGISZTRÁCIÓ\n\n 
URL:https://relnet.hu/en/rendezveny/ismerkedjen-meg-az-uj-acronis-cyber-protect-cloud-megoldassal/
LOCATION:Virtual event
CATEGORIES:Acronis,Acronis Backup 12.5,Backup,Cyber Protection,Gyártó
ATTACH;FMTTYPE=image/png:https://relnet.hu/wp-content/uploads/2020/05/1-2.png
END:VEVENT
END:VCALENDAR