BEGIN:VCALENDAR
VERSION:2.0
PRODID:-//RelNet Technológia Kft. - ECPv5.16.4//NONSGML v1.0//EN
CALSCALE:GREGORIAN
METHOD:PUBLISH
XXXXXXXXXXXXXXXXXXXXXXXXXXXXXXXXXXXXXX
XXXXXXXXXXXXXXXXXXXXXXXXXXXXXXXXXXXXX
XXXXXXXXXXXXXXXXXXXXXXXXXXXXXXXXXXXXXXXXXXXXXXXXX
BEGIN:VTIMEZONE
TZID:Europe/Budapest
BEGIN:DAYLIGHT
TZOFFSETFROM:+0100
TZOFFSETTO:+0200
TZNAME:CEST
DTSTART:20210328T010000
END:DAYLIGHT
BEGIN:STANDARD
TZOFFSETFROM:+0200
TZOFFSETTO:+0100
TZNAME:CET
DTSTART:20211031T010000
END:STANDARD
END:VTIMEZONE
BEGIN:VEVENT
DTSTART;TZID=Europe/Budapest:20211022T113000
DTEND;TZID=Europe/Budapest:20211022T123000
DTSTAMP:20260420T232129
CREATED:20211011T133046Z
LAST-MODIFIED:20211011T133046Z
UID:18011-1634902200-1634905800@relnet.hu
SUMMARY:„Ivanti és MobileIron felhasználási esetek”  - MAGYAR NYELVEN
DESCRIPTION:Kedves Partnerünk\, \nRészvételetekre és aktív közreműködésetekre számítunk: legyen ez egy hasznos óra\, amikor közösen tanulunk a piaci lehetőségre adható megoldásokról. \nIvanti és MobileIron felhasználási esetek\n2021.október 22. 11:30 – 12:30\nElőadó: Kerékfy Miklós\, Sales Engineer \nTematika: \n\nUnified Endpoint Management (Ivanti+MobileIron)\nSupply Chain Management (Wavelink+MobileIron)\nSecure BYOD on Windows 10 devices (Pulse)\nPasswordless authentication to access VPN (Pulse+MobileIron ZSO)\nAutomated mobile threat – ITSM integration (MobileIron MTD+ITSM)\nRisk-based patch intelligence/management (Patching+Risksense)\n\nJelentkezzen most! \n\n\nIvanti és MobileIron felhasználási esetek\n2021.október 22. 11:30 – 12:30 CEST\nWEBINÁRIUM \nREGISZTRÁCIÓ\n\n 
URL:https://relnet.hu/en/rendezveny/ivanti-es-mobileiron-felhasznalasi-esetek-magyar-nyelven/
LOCATION:Virtual event
CATEGORIES:Ivanti,Viszonteladó
ATTACH;FMTTYPE=image/jpeg:https://relnet.hu/wp-content/uploads/2021/09/Ivanti-webinar-series-min.jpg
END:VEVENT
END:VCALENDAR