BEGIN:VCALENDAR
VERSION:2.0
PRODID:-//RelNet Technológia Kft. - ECPv5.16.4//NONSGML v1.0//EN
CALSCALE:GREGORIAN
METHOD:PUBLISH
XXXXXXXXXXXXXXXXXXXXXXXXXXXXXXXXXXXXXX
XXXXXXXXXXXXXXXXXXXXXXXXXXXXXXXXXXXXX
XXXXXXXXXXXXXXXXXXXXXXXXXXXXXXXXXXXXXXXXXXXXXXXXX
BEGIN:VTIMEZONE
TZID:Europe/Budapest
BEGIN:DAYLIGHT
TZOFFSETFROM:+0100
TZOFFSETTO:+0200
TZNAME:CEST
DTSTART:20220327T010000
END:DAYLIGHT
BEGIN:STANDARD
TZOFFSETFROM:+0200
TZOFFSETTO:+0100
TZNAME:CET
DTSTART:20221030T010000
END:STANDARD
END:VTIMEZONE
BEGIN:VEVENT
DTSTART;TZID=Europe/Budapest:20220224T170000
DTEND;TZID=Europe/Budapest:20220224T180000
DTSTAMP:20260420T022050
CREATED:20220222T094134Z
LAST-MODIFIED:20220222T094456Z
UID:20439-1645722000-1645725600@relnet.hu
SUMMARY:Ivanti - Munkavállalói élmény fokozása a mesterséges intelligencia erejével - Webinárium
DESCRIPTION:A munkavállalók igényeinek kiszolgálására létrehozott csapatok gyakran túlterheltek\, emiatt pedig a végfelhasználók – akik ráadásul ma már nem csak az irodában dolgoznak – elégedetlenek. Mindeközben a vezetőség a munkavállalói élmény alapján méri a szolgáltatói csapatok eredményességét. \nRegisztráljon az Ivanti február 24-i webes rendezvényére\, hogy megtudja\, hogyan képes a természetes nyelvi\, beszélgetős mesterséges intelligencia támogatni a vállalati szolgáltatásmenedzsmentet\, és ezáltal javítani a munkavállalói élményt. \nTémák: \n\nA virtuális asszisztens mint a szolgáltatási csapat támogatója és a kivételes munkavállalói élmény biztosítéka\nBevált gyakorlatok a sikeres implementációra és a munkavállalók általi adoptálásra\nA szolgáltatásnyújtás további automatizálásának felhasználási esetei\n\nIdőpont: \n2022. február 24. (csütörtök) – 17:00 \nElőadók: \n\nDavid Martinez\, Sr. Product Marketing Manager\, Ivanti\nNelson Veiga\, Field CTO\, Espressive\n\nREGISZTRÁCIÓ
URL:https://relnet.hu/en/rendezveny/ivanti-munkavallaloi-elmeny-fokozasa-a-mesterseges-intelligencia-erejevel-webinarium/
LOCATION:Virtual event
CATEGORIES:Ivanti,Végfelhasználó,Viszonteladó,Webinárium
ATTACH;FMTTYPE=image/png:https://relnet.hu/wp-content/uploads/2022/02/Webinar_1-min.png
END:VEVENT
END:VCALENDAR