BEGIN:VCALENDAR
VERSION:2.0
PRODID:-//RelNet Technológia Kft. - ECPv5.16.4//NONSGML v1.0//EN
CALSCALE:GREGORIAN
METHOD:PUBLISH
XXXXXXXXXXXXXXXXXXXXXXXXXXXXXXXXXXXXXX
XXXXXXXXXXXXXXXXXXXXXXXXXXXXXXXXXXXXX
XXXXXXXXXXXXXXXXXXXXXXXXXXXXXXXXXXXXXXXXXXXXXXXXX
BEGIN:VTIMEZONE
TZID:Europe/Budapest
BEGIN:DAYLIGHT
TZOFFSETFROM:+0100
TZOFFSETTO:+0200
TZNAME:CEST
DTSTART:20190331T010000
END:DAYLIGHT
BEGIN:STANDARD
TZOFFSETFROM:+0200
TZOFFSETTO:+0100
TZNAME:CET
DTSTART:20191027T010000
END:STANDARD
END:VTIMEZONE
BEGIN:VEVENT
DTSTART;TZID=Europe/Budapest:20190710T170000
DTEND;TZID=Europe/Budapest:20190710T200000
DTSTAMP:20260420T043127
CREATED:20190704T113252Z
LAST-MODIFIED:20190704T114334Z
UID:3108-1562778000-1562788800@relnet.hu
SUMMARY:Ivanti Patch Tuesday Analysis Webinar
DESCRIPTION:Join to Ivanti’s webinar where this month they will recap the Microsoft and 3rd Party security patches released on Patch Tuesday. Discuss things to watch out for\, products to be sure to test adequately\, and which patches should be highest priority to roll out! \nMain topics are the following: \n\nCybersecurity News – We’ll go over recent ransomware attacks and how it impacts you and your organization.\nAll Things Patch – We will discuss things to watch out for\, products to be sure to test adequately\, and which patches should be highest priority to roll out.\nIn-depth Q&A – We spend 20-40 minutes answering your technical questions so you can leave the webinar feeling prepared.\n\n\n \nRegister now! \nPatch Tuesday Analysis\n10th July 2019\, 17:00-20:00 p.m. (CEST)\n \nREGISTER NOW
URL:https://relnet.hu/en/rendezveny/ivanti-patch-tuesday-analysis-webinar/
CATEGORIES:End user,Ivanti,Reseller,Vendor,Webinar
ATTACH;FMTTYPE=image/png:https://relnet.hu/wp-content/uploads/2019/07/Ivanti-Patch-Tuesday.png
END:VEVENT
END:VCALENDAR