BEGIN:VCALENDAR
VERSION:2.0
PRODID:-//RelNet Technológia Kft. - ECPv5.16.4//NONSGML v1.0//EN
CALSCALE:GREGORIAN
METHOD:PUBLISH
XXXXXXXXXXXXXXXXXXXXXXXXXXXXXXXXXXXXXX
XXXXXXXXXXXXXXXXXXXXXXXXXXXXXXXXXXXXX
XXXXXXXXXXXXXXXXXXXXXXXXXXXXXXXXXXXXXXXXXXXXXXXXX
BEGIN:VTIMEZONE
TZID:Europe/Budapest
BEGIN:DAYLIGHT
TZOFFSETFROM:+0100
TZOFFSETTO:+0200
TZNAME:CEST
DTSTART:20210328T010000
END:DAYLIGHT
BEGIN:STANDARD
TZOFFSETFROM:+0200
TZOFFSETTO:+0100
TZNAME:CET
DTSTART:20211031T010000
END:STANDARD
END:VTIMEZONE
BEGIN:VEVENT
DTSTART;TZID=Europe/Budapest:20210607T080000
DTEND;TZID=Europe/Budapest:20210609T170000
DTSTAMP:20260420T043836
CREATED:20210407T090846Z
LAST-MODIFIED:20210602T083119Z
UID:14630-1623052800-1623258000@relnet.hu
SUMMARY:Ivanti Solutions Summit 2021
DESCRIPTION:Ivanti Solutions Summit 2021 \n“The anywhere conference for the Everywhere Workplace” \nVirtuális rendezvény\n2021. június 7–9. \nRészletek: \nhttps://www.ivanti.com/company/events/solutions-summit/2021 \nCsatlakozzon bárhonnan!\nREGISZTRÁCIÓ
URL:https://relnet.hu/en/rendezveny/ivanti-solutions-summit-2021/
LOCATION:Virtual event
CATEGORIES:Ivanti
ATTACH;FMTTYPE=image/jpeg:https://relnet.hu/wp-content/uploads/2021/04/Ivanti-Solutions-Summit-min.jpg
END:VEVENT
END:VCALENDAR