BEGIN:VCALENDAR
VERSION:2.0
PRODID:-//RelNet Technológia Kft. - ECPv5.16.4//NONSGML v1.0//EN
CALSCALE:GREGORIAN
METHOD:PUBLISH
XXXXXXXXXXXXXXXXXXXXXXXXXXXXXXXXXXXXXX
XXXXXXXXXXXXXXXXXXXXXXXXXXXXXXXXXXXXX
XXXXXXXXXXXXXXXXXXXXXXXXXXXXXXXXXXXXXXXXXXXXXXXXX
BEGIN:VTIMEZONE
TZID:Europe/Budapest
BEGIN:DAYLIGHT
TZOFFSETFROM:+0100
TZOFFSETTO:+0200
TZNAME:CEST
DTSTART:20190331T010000
END:DAYLIGHT
BEGIN:STANDARD
TZOFFSETFROM:+0200
TZOFFSETTO:+0100
TZNAME:CET
DTSTART:20191027T010000
END:STANDARD
END:VTIMEZONE
BEGIN:VEVENT
DTSTART;TZID=Europe/Budapest:20190709T160000
DTEND;TZID=Europe/Budapest:20190709T170000
DTSTAMP:20260420T020702
CREATED:20190624T141515Z
LAST-MODIFIED:20190628T101659Z
UID:3015-1562688000-1562691600@relnet.hu
SUMMARY:Joint Dell & Kemp webinar
DESCRIPTION:Ever wondered why object storage should be considered as part of your application modernization strategy? \nJoin this Kemp webinar co-hosted with Dell Technologies on July 9th. – “Delivering Hyper-scalable Cloud Native Storage with Dell EMC ECS and Kemp” presented by Dominic Bavaro\, Corporate Advisory Engineer ECS from Dell EMC Kurt Jung\, Sr Technical Marketing Engineer from Kemp \nAgenda: \n\nIntroduction to Object Storage & Key Benefits\nOverview of Dell EMC ECS / Kemp Reference Architecture\nImportance of Scalability and Resilience\nTechnical Demonstration\nQ&A\n\n\n\nRegister now! \n \nDelivering Hyper-scalable Cloud Native Storage with Dell EMC & Kemp\n9. July\, 2019. 16:00 pm. (CEST)  \nREGISTER\n\n 
URL:https://relnet.hu/en/rendezveny/joint-dell-kemp-webinar/
CATEGORIES:End user,Kemp Technologies,Reseller,Vendor,Webinar
ATTACH;FMTTYPE=image/png:https://relnet.hu/wp-content/uploads/2019/06/Webinar-DellKemp.png
END:VEVENT
END:VCALENDAR